Workbook
Name _new1: 【参考】数式用_2!#REF!
Name _new1: #REF!
Name erea: 【参考】数式用_2!#REF!
Name ｈ」: #REF!
Name ｈｈ: #REF!
Name ｈｈｈ: #REF!
Name ｈｈｈｈ: #REF!
Name ｈｈｈｈｈｈ: #REF!
Name KEY_NAME: #REF!
Name KEY_NAME: #REF!
Name KEY_NAME: #REF!
Name KEY_NAME: #REF!
Name LAST_DATA: #REF!
Name LAST_DATA: #REF!
Name LAST_DATA: #REF!
Name LAST_DATA: #REF!
Name new: 【参考】数式用_2!#REF!
Name OLE_LINK4: '様式第2号（別表第２関係)'!$H$9
Name OLE_LINK4: '様式第3号（別表第２関係)'!$H$9
Name OLE_LINK4: '様式第5号（別表第２関係)'!$H$9
Name サービス名: 【参考】数式用_2!#REF!
Name 愛知県: 【参考】数式用_2!$X$993:$X$1046
Name 愛知県: 【参考】数式用_1!$AM$993:$AM$1046
Name 愛媛県: 【参考】数式用_2!$X$1422:$X$1441
Name 愛媛県: 【参考】数式用_1!$AM$1422:$AM$1441
Name 茨城県: 【参考】数式用_2!$X$415:$X$458
Name 茨城県: 【参考】数式用_1!$AM$415:$AM$458
Name 岡山県: 【参考】数式用_2!$X$1312:$X$1338
Name 岡山県: 【参考】数式用_1!$AM$1312:$AM$1338
Name 沖縄県: 【参考】数式用_2!$X$1709:$X$1749
Name 沖縄県: 【参考】数式用_1!$AM$1709:$AM$1749
Name 介護医療院_組合せ: 【参考】数式用_2!$G$39:$I$39
Name 介護医療院①: 【参考】数式用_1!$R$39:$V$39
Name 介護医療院②: 【参考】数式用_1!$X$39:$AC$39
Name 介護医療院③: 【参考】数式用_1!$AE$39:$AH$39
Name 介護予防_小規模多機能型居宅介護_短期利用型①: 【参考】数式用_1!$R$23:$V$23
Name 介護予防_小規模多機能型居宅介護_短期利用型②: 【参考】数式用_1!$X$23:$AC$23
Name 介護予防_小規模多機能型居宅介護_短期利用型③: 【参考】数式用_1!$AE$23:$AH$23
Name 介護予防_小規模多機能型居宅介護①: 【参考】数式用_1!$R$22:$V$22
Name 介護予防_小規模多機能型居宅介護②: 【参考】数式用_1!$X$22:$AC$22
Name 介護予防_小規模多機能型居宅介護③: 【参考】数式用_1!$AE$22:$AH$22
Name 介護予防_短期入所生活介護①: 【参考】数式用_1!$R$33:$V$33
Name 介護予防_短期入所生活介護②: 【参考】数式用_1!$X$33:$AC$33
Name 介護予防_短期入所生活介護③: 【参考】数式用_1!$AE$33:$AH$33
Name 介護予防_短期入所療養介護_医療院①: 【参考】数式用_1!$R$41:$V$41
Name 介護予防_短期入所療養介護_医療院②: 【参考】数式用_1!$X$41:$AC$41
Name 介護予防_短期入所療養介護_医療院③: 【参考】数式用_1!$AE$41:$AH$41
Name 介護予防_短期入所療養介護_病院等①: 【参考】数式用_1!$R$38:$V$38
Name 介護予防_短期入所療養介護_病院等②: 【参考】数式用_1!$X$38:$AC$38
Name 介護予防_短期入所療養介護_病院等③: 【参考】数式用_1!$AE$38:$AH$38
Name 介護予防_短期入所療養介護老健_②: 【参考】数式用_1!$X$36:$AC$36
Name 介護予防_短期入所療養介護老健①: 【参考】数式用_1!$R$36:$V$36
Name 介護予防_短期入所療養介護老健③: 【参考】数式用_1!$AE$36:$AH$36
Name 介護予防_通所リハビリテーション①: 【参考】数式用_1!$R$12:$V$12
Name 介護予防_通所リハビリテーション②: 【参考】数式用_1!$X$12:$AC$12
Name 介護予防_通所リハビリテーション③: 【参考】数式用_1!$AE$12:$AH$12
Name 介護予防_特定施設入居者生活介護①: 【参考】数式用_1!$R$15:$V$15
Name 介護予防_特定施設入居者生活介護②: 【参考】数式用_1!$X$15:$AC$15
Name 介護予防_特定施設入居者生活介護③: 【参考】数式用_1!$AE$15:$AH$15
Name 介護予防_認知症対応型共同生活介護_短期利用型①: 【参考】数式用_1!$R$29:$V$29

Sheet 基本情報入力シート
A1: 計画書（令和７年度介護施設等経営改善・従事者処遇改善等緊急支援事業 （介護分野の職員の賃上げ・職場環境改善支援事業））基本情報入力シート | AN1: ↓隠し列
A2: ●はじめに本シート（基本情報入力シート）のセルに入力することで、申請対象となる事業所等に関する基本的な情報が、各シートに自動的に転記されます。
A3: 【重要】 本計画書は、令和７年度介護施設等経営改善・従事者処遇改善等緊急支援事業費補助金（介護分野の職員の賃上げ・職場環境改善支援事業）（以下「補助金」という。）の岩手県の申請様式です。
A4: ●自動転記の仕組みを活用するため、下記の作業フローに基づき、シートを完成させてください。 ●「提出先の自治体名」を記入すると、様式第１号別紙１から３までの「提出先」欄も、自動で更新されます。 提出先が正しく記入されていることを必ずご確認ください。
A11: １ 提出先に関する情報
A12: 補助金の届出に係る提出先（事業所の所在地の都道府県）を選択してください。
A13: 提出先 | C13: 岩手県
A15: ２ 基本情報
A16: 下表に必要事項を入力してください。記入内容が各様式に反映されます。
A17: 法人名 | B17: フリガナ
B18: 名称
A19: 法人住所 | B19: 〒 | P19: - | AN19: 〒結合
B20: 住所１（番地・住居番号まで） | AN20: =L19&"-"&Q19 -> -
B21: 住所２（建物名等）
A22: 法人 代表者 | B22: 職名
B23: 氏名
A24: 法人番号
A25: 書類作成 担当者 | B25: フリガナ
B26: 氏名
A27: 連絡先 | B27: 電話番号
B28: E-mail
A30: ３ 計画書の記載内容や補助金の支払に係る情報 | AE30: =IF(L18="", "", IF(AND(B32="✓", O35<>"", T35<>""), "○", "×"))
F32: 本補助金計画書の記載内容に虚偽がないこと及び記載内容を証明する資料を適切に保管していることを誓約します。 | AN32: 誓約日結合
C35: 令和 | J35: 8 | L35: 年 | R35: 月 | V35: 日 | W35: 法人名 | Z35: =IF(L18="","",L18) | AN35: ="令和8年"&O35&"月"&T35&"日" -> 令和8年月日
W36: 代表者 | Z36: 職名 | AB36: =IF(L22="", "",L22) | AD36: =IF(L23="", "", L23)
A38: 【記入上の注意】 ・ 各証明資料は、都道府県からの求めがあった場合には、速やかに提出すること。 ・ 本計画書への虚偽記載の他、補助金の請求に関して不正があった場合は、補助金を返還することとなる場合がある。
A40: ４ 補助金の対象事業所に関する情報
A41: 下表に必要事項を入力してください。記入内容が別紙様式に反映されます。
A42: 介護予防や短期利用型サービス含め、記入漏れがないことを確認しました。 | AF42: =IF(L18="","",IF(AND(W44="✓",W45="✓",W46="✓",W47="✓"),"○","×"))
A43: （記入済みのサービスの事業所数）
A44: 介護予防サービスの事業所数 | T44: =COUNTIF($Z$51:$AB$150,"*介護予防*") -> 0 | V44: 件
A45: 短期利用型サービスの事業所数 | T45: =COUNTIF($Z$51:$AB$150,"*短期利用型*") -> 0 | V45: 件
A46: 総合事業サービスの事業所数 | T46: =COUNTIF($Z$51:$AB$150,"*独自*")+COUNTIF($Z$51:$AB$150,"介護予防ケアマネジメント") -> 0 | V46: 件
A47: その他サービスの事業所数 | T47: =COUNTIF(AO51:AP150,"その他") -> 0 | V47: 件
A49: 番号 | B49: 介護保険事業所番号 | L49: 指定権者名 | Q49: 事業所の所在地 | W49: 事業所名 | Z49: サービス名 | AC49: サービスコード | AD49: 令和７年12月の介護報酬総単位数（見込み）[単位] | AE49: １単位あたりの単価 （地域単価） [円]
Q50: 都道府県 | V50: 市区町村
A51: 1 | AC51: =IFERROR(VLOOKUP(Z51,【参考】数式用_1!$A$4:$B$54,2,FALSE),"") | AD51: =IF('様式第１号別紙３（個表） '!H15="","",'様式第１号別紙３（個表） '!H15) | AE51: =IF(B51="","",IF(AO51="総合事業","数式を削除して手入力",IFERROR(INDEX(【参考】数式用_1!$AT$3:$AV$452,MATCH(Q51&V51,【参考】数式用_1!$AS$3:$AS$452,0),MATCH(VLOOKUP(Z51,【参考】数式用_1!$AW$2:$AX$53,2,FALSE),【参考】数式用_1!$AT$2:$AV$2,0)),10))) | AN51: =IF($L$18="", "", VLOOKUP(Z51,【参考】数式用_1!$A$4:$M$54,13,FALSE)) | AO51: =VLOOKUP(Z51,【参考】数式用_1!$A$2:$N$54,14,FALSE) -> #N/A
A52: 2 | AC52: =IFERROR(VLOOKUP(Z52,【参考】数式用_1!$A$4:$B$54,2,FALSE),"") | AD52: =IF('様式第１号別紙３（個表） '!H16="","",'様式第１号別紙３（個表） '!H16) | AE52: =IF(B52="","",IF(AO52="総合事業","数式を削除して手入力",IFERROR(INDEX(【参考】数式用_1!$AT$3:$AV$452,MATCH(Q52&V52,【参考】数式用_1!$AS$3:$AS$452,0),MATCH(VLOOKUP(Z52,【参考】数式用_1!$AW$2:$AX$53,2,FALSE),【参考】数式用_1!$AT$2:$AV$2,0)),10))) | AN52: =IF($L$18="", "", VLOOKUP(Z52,【参考】数式用_1!$A$4:$M$54,13,FALSE)) | AO52: =VLOOKUP(Z52,【参考】数式用_1!$A$2:$N$54,14,FALSE) -> #N/A
A53: =A52+1 -> 3 | AC53: =IFERROR(VLOOKUP(Z53,【参考】数式用_1!$A$4:$B$54,2,FALSE),"") | AD53: =IF('様式第１号別紙３（個表） '!H17="","",'様式第１号別紙３（個表） '!H17) | AE53: =IF(B53="","",IF(AO53="総合事業","数式を削除して手入力",IFERROR(INDEX(【参考】数式用_1!$AT$3:$AV$452,MATCH(Q53&V53,【参考】数式用_1!$AS$3:$AS$452,0),MATCH(VLOOKUP(Z53,【参考】数式用_1!$AW$2:$AX$53,2,FALSE),【参考】数式用_1!$AT$2:$AV$2,0)),10))) | AN53: =IF($L$18="", "", VLOOKUP(Z53,【参考】数式用_1!$A$4:$M$54,13,FALSE)) | AO53: =VLOOKUP(Z53,【参考】数式用_1!$A$2:$N$54,14,FALSE) -> #N/A
A54: =A53+1 -> 4 | AC54: =IFERROR(VLOOKUP(Z54,【参考】数式用_1!$A$4:$B$54,2,FALSE),"") | AD54: =IF('様式第１号別紙３（個表） '!H18="","",'様式第１号別紙３（個表） '!H18) | AE54: =IF(B54="","",IF(AO54="総合事業","数式を削除して手入力",IFERROR(INDEX(【参考】数式用_1!$AT$3:$AV$452,MATCH(Q54&V54,【参考】数式用_1!$AS$3:$AS$452,0),MATCH(VLOOKUP(Z54,【参考】数式用_1!$AW$2:$AX$53,2,FALSE),【参考】数式用_1!$AT$2:$AV$2,0)),10))) | AN54: =IF($L$18="", "", VLOOKUP(Z54,【参考】数式用_1!$A$4:$M$54,13,FALSE)) | AO54: =VLOOKUP(Z54,【参考】数式用_1!$A$2:$N$54,14,FALSE) -> #N/A
...

Sheet 様式第１号別紙１（処遇改善加算対象サービス　総括表）
A1: 様式第１号別紙１ 令和７年度介護施設等経営改善・従事者処遇改善等緊急支援事業 （介護分野の職員の賃上げ・職場環境改善支援事業）計画書 （処遇改善加算対象サービス 総括表） | AB1: 提出先 | AE1: =IF(基本情報入力シート!C13<>"", 基本情報入力シート!C13, "") -> 岩手県
A2: １ 基本情報
A3: フリガナ | G3: =IF(基本情報入力シート!L17="","",基本情報入力シート!L17)
A4: 法人名 | G4: =IF(基本情報入力シート!L18="","",基本情報入力シート!L18)
A5: 法人所在地 | G5: 〒 | H5: =IF(基本情報入力シート!AN20="－","",基本情報入力シート!AN20) -> -
G6: =IF(基本情報入力シート!L20="","",基本情報入力シート!L20)
G7: =IF(基本情報入力シート!L21="","",基本情報入力シート!L21)
A8: フリガナ | G8: =IF(基本情報入力シート!L25="","",基本情報入力シート!L25)
A9: 書類作成担当者 | G9: =IF(基本情報入力シート!L26="","",基本情報入力シート!L26)
A10: 連絡先 | G10: 電話番号 | K10: =IF(基本情報入力シート!L27="","",基本情報入力シート!L27) | U10: E-mail | Y10: =IF(基本情報入力シート!L28="","",基本情報入力シート!L28)
A12: ２ 補助金の支給要件及び使途
A13: ① | B13: 介護従事者に対する幅広い賃上げ支援
B14: 処遇改善加算を算定している又は実績報告書の提出までに算定する見込みです。 | AH14: =IF(G4="","",IF(COUNTIF(基本情報入力シート!AN51:AN150,"加算対象")=COUNTIFS('様式第１号別紙３（個表） '!J15:J114,"<>",'様式第１号別紙３（個表） '!AN15:AN114,"加算対象"),"○","×"))
B15: 様式第１号別紙３「①の要件を満たす」の欄の記載のうち、処遇改善加算対象サービス分について集計 「○」は記載漏れがない場合、「×」は記載漏れがある場合を指します。
A17: ② | B17: 生産性向上や協働化に取り組む事業者の介護職員に対する上乗せの賃上げ支援
B18: ○訪問・通所系サービス等について、ケアプランデータ連携システムに加入している又は実績報告書の提出までに加入する 見込みです。 ○施設・居住サービス、多機能サービス、短期入所サービス等について、生産性向上推進体制加算Ⅰ又はⅡを算定している 又は実績報告書の提出までに算定する見込みです。 （小規模多機能型居宅介護等のサービスにおいては、ケアプランデータ連携システムに加入する又は 実績報告書の提出までに加入する見込みであることにより要件を満たすことができます。） ○介護サービス事業所等が所属する法人が、社会福祉連携推進法人に所属しています。 | AH18: =IF(G4="","",IF(AND(COUNTIFS('様式第１号別紙３（個表） '!K15:K114,"要件を満たさない",'様式第１号別紙３（個表） '!AN15:AN114,"加算対象")=0,COUNTIF(基本情報入力シート!AN51:AN150,"加算対象")=COUNTIFS('様式第１号別紙３（個表） '!K15:K114,"<>",'様式第１号別紙３（個表） '!AN15:AN114,"加算対象")),"○", IF(AND(COUNTIFS('様式第１号別紙３（個表） '!K15:K114,"要件を満たさない",'様式第１号別紙３（個表） '!AN15:AN114,"加算対象")>=1,COUNTIF(基本情報入力シート!AN51:AN150,"加算対象")=COUNTIFS('様式第１号別紙３（個表） '!K15:K114,"<>",'様式第１号別紙３（個表） '!AN15:AN114,"加算対象")),"△","×")))
B19: 様式第１号別紙３「②の要件を満たす」の欄の記載のうち、処遇改善加算対象サービス分について集計 「○」は記載漏れがなく、全ての事業所において要件を満たす場合、 「△」は記載漏れがないが、要件を満たさない事業所がある場合、 「×」は記載漏れがある場合を指します。
A21: ③ | B21: 介護職員の職場環境改善の支援（賃金改善に充てることも可能。）
B22: 生産性向上や協働化に係る取組を行っている（②を満たしている）又は令和６年度介護人材確保・職場環境改善等事業を活用しています。 | AH22: =IF(OR(G4="",COUNTIFS('様式第１号別紙３（個表） '!L15:L114,"職場環境改善の取組を行っている")=COUNTIF(基本情報入力シート!AN51:AN150,"加算対象")),"",IF(AND(COUNTIFS('様式第１号別紙３（個表） '!L15:L114,"要件を満たさない",'様式第１号別紙３（個表） '!AN15:AN114,"加算対象")=0,COUNTIF(基本情報入力シート!AN51:AN150,"加算対象")=COUNTIFS('様式第１号別紙３（個表） '!L15:L114,"<>",'様式第１号別紙３（個表） '!AN15:AN114,"加算対象")),"○", IF(AND(COUNTIFS('様式第１号別紙３（個表） '!L15:L114,"要件を満たさない",'様式第１号別紙３（個表） '!AN15:AN114,"加算対象")>=1,COUNTIF(基本情報入力シート!AN51:AN150,"加算対象")=COUNTIFS('様式第１号別紙３（個表） '!L15:L114,"<>",'様式第１号別紙３（個表） '!AN15:AN114,"加算対象")),"△","×")))
B23: 職場環境改善等に向けて、以下のいずれかの取組の実施を計画している又は既に実施しています。 （１つ以上の項目にチェック（✓）） | AH23: =IF(OR(G4="",COUNTIF('様式第１号別紙３（個表） '!L12:L114,"職場環境改善の取組を行っている")=0),"",IF(OR(B24="✓",B25="✓", B26="✓"),"○", "×")) | BA23: ='様式第１号別紙２（処遇改善加算対象外サービス 総括表）'!AW17
C24: （ア）業務内容の明確化と職員間の適切な役割分担の取組
C25: （イ）介護職員等の業務の洗い出しや棚卸しなど、現場の課題の見える化
C26: （ウ）業務改善活動の体制構築（委員会やプロジェクトチームの立ち上げ又は外部の研修会の活動等）
B27: 様式第１号別紙３「③の要件を満たす」の欄の記載のうち、処遇改善加算対象サービス分について集計
AH28: =IF(G4="","",IF(OR(AND(B30="✓",B31="✓",M32<>""),AND(B30="",B31="✓",M32<>""),AND(B30="✓",B31="",M32=""),),"○", "×"))
B29: 【使途】（１つ以上の項目にチェック（✓）） 職場環境改善経費への充当又は賃金改善を行う方法
C30: （一）賃金改善の実施
C31: （二） 職場環境改善経費への充当
B32: （二）を選択した場合、その使途を プルダウンから選択してください。
B33: ・実績報告では、どのような項目の費用にどのくらいの額を充てたかを報告いただきます。 ・職場環境改善経費には、職員に対する研修費用や介護助手等の募集経費、その他の金額が含まれます。 「その他の金額」には、補助金の要件である「業務内容の明確化と役割分担」、「現場の課題の見える化」又は「業務改善活動の体制構築」に関する取組 を実施するための費用のうち、介護テクノロジー等の機器購入費用でないもの（専門家の派遣費用、会議費等）のみ充当することができます。 ・職場環境改善経費について、複数の取組を行う場合は、主な使途にあたる項目を選択してください。 ・介護テクノロジーの導入等を検討している場合には、「岩手県介護テクノロジー導入等支援事業費補助金」をご活用ください。 ・職場環境改善経費について、消費税仕入控除税額に充当することはできません。消費税額を対象経費に含めていた場合、消費税仕入控除税額の申告 が必要となり、当該控除税額分に相当する補助金の返還が必要となる場合があります。
A35: ３ その他要件を満たすことの確認・誓約等
A36: 以下の点を確認し、満たしている項目に全てチェック（✔）すること。 | AH36: {=IF(G4="", "", IF(PRODUCT((A38:A44="✓")*1)=1,"○","×"))} | AK36: ！この欄が×の場合、チェック（✓）がついていない項目があります。
A37: 確認項目 | AA37: 証明する資料の例
B38: 補助金による賃金改善以外の部分で賃金水準を引き下げません。 | AA38: ―
B39: 誓約したことで対応したこととみなした要件について、実績報告書の提出までに対応します。 | AA39: ―
B40: 補助金として給付される額は、①～③の使途のために全額支出します。 | AA40: 給与明細、職場環境改善経費に係る明細書等
B41: 労働基準法、労働災害補償保険法、最低賃金法、労働安全衛生法、雇用保険法その他の労働に関する法令に違反し、罰金以上の刑に処せられていません。 | AA41: ―
B42: 労働保険料の納付が適正に行われています。 | AA42: 労働保険関係成立届、 確定保険料申告書
B43: 本計画書の内容を雇用する全ての職員に対して周知しました。 | AA43: 会議録、周知文書
B44: 都道府県のホームページ等で、補助金の提出先を確認しました。 | AA44: ―
...

Sheet 様式第１号別紙２（処遇改善加算対象外サービス　総括表）
A1: 様式第１号別紙２ 令和７年度介護施設等経営改善・従事者処遇改善等緊急支援事業 （介護分野の職員の賃上げ・職場環境改善支援事業）計画書 （処遇改善加算対象外サービス 総括表） | AB1: 提出先 | AE1: =IF(基本情報入力シート!C13<>"", 基本情報入力シート!C13, "") -> 岩手県
A2: １ 基本情報
A3: フリガナ | G3: =IF(基本情報入力シート!L17="","",基本情報入力シート!L17)
A4: 法人名 | G4: =IF(基本情報入力シート!L18="","",基本情報入力シート!L18)
A5: 法人所在地 | G5: 〒 | H5: =IF(基本情報入力シート!AN20="－","",基本情報入力シート!AN20) -> -
G6: =IF(基本情報入力シート!L20="","",基本情報入力シート!L20)
G7: =IF(基本情報入力シート!L21="","",基本情報入力シート!L21)
A8: フリガナ | G8: =IF(基本情報入力シート!L25="","",基本情報入力シート!L25)
A9: 書類作成担当者 | G9: =IF(基本情報入力シート!L26="","",基本情報入力シート!L26)
A10: 連絡先 | G10: 電話番号 | K10: =IF(基本情報入力シート!L27="","",基本情報入力シート!L27) | U10: E-mail | Y10: =IF(基本情報入力シート!L28="","",基本情報入力シート!L28)
A12: ２ 補助金の支給要件及び使途
A13: ① | B13: 介護従事者に対する幅広い賃上げ支援
B14: ケアプランデータ連携システムに加入している又は実績報告書の提出までに加入する見込みです。 社会福祉連携推進法人に所属しています。 処遇改善加算の対象外サービスについて、処遇改善加算Ⅳに準ずる要件を満たす（又は満たす見込み）です。 | AH14: =IF(G4="","",IF(COUNTIF(基本情報入力シート!AN51:AN150,"加算対象外")=COUNTIFS('様式第１号別紙３（個表） '!J15:J114,"<>",'様式第１号別紙３（個表） '!AN15:AN114,"加算対象外"),"○","×"))
B15: 様式第１号別紙３「①の要件を満たす」の欄の記載のうち、処遇改善加算対象外サービス分について集計 「○」は記載漏れがない場合、「×」は記載漏れがある場合を指します。
B17: 様式第１号別紙３「①の要件を満たす」の欄において、処遇改善加算の対象外サービスについて、処遇改善加算Ⅳに準ずる要件を満たす（又は満たす見込み）と回答した場合（詳しい要件の内容は参考シートを参照） | AH17: =IF(OR(G4="",AW17="処遇改善加算の要件を選択していない"),"",IF(AND(OR(AH18="✓",AH18="誓約"),AH19="○"),"○","×")) | AW17: =IF(G4="","",IF(COUNTIF('様式第１号別紙３（個表） '!J12:J114,"加算Ⅳに準ずる要件を満たす")+COUNTIF('様式第１号別紙３（個表） '!J12:J114,"加算Ⅳに準ずる要件を満たすことを誓約")=0, "処遇改善加算の要件を選択していない","処遇改善加算の要件を選択している"))
C18: （ア）・（イ）（任用要件・賃金体系の整備等、研修の実施等）
C19: （ウ）職場環境等要件 ・届出に係る計画の期間中に実施する事項について、チェック（✔）する又は実績報告書の提出までに要件整備を行う 誓約をすること （「誓約」を選択。）。 ・「入職促進に向けた取組」、「資質の向上やキャリアアップに向けた支援」、「両立支援・多様な働き方の推進」、 「腰痛を含む心身の健康管理」及び「やりがい・働きがいの醸成」の区分ごとに１以上の取組を実施し、 「生産性向上 （業務改善及び働く環境改善）のための取組」のうち２以上の取組を実施すること。 ただし、１法人あたり１の施設又は事業所のみを運営するような法人等の小規模事業者は、㉔の取組を実施していれば、 「生産性向上（業務改善及び働く環境改善）のための取組」の要件を満たすものとする。（㉔及び㉔の２を選択。） | AH19: =IF(G4="", "", IF(AND(AW21>=1, AW25>=1, AW29>=1, AW33>=1, OR(AW37>=2,AW45=2), AW46>=1), "○", "×"))
C20: 区分 | F20: 内容
C21: 入職促進に向けた取組 | H21: ①法人や事業所の経営理念やケア方針・人材育成方針、その実現のための施策・仕組みなどの明確化 | AW21: =COUNTIF(F21:G24,"✓")+COUNTIF(F21:G24,"誓約") -> 0
H22: ②事業者の共同による採用・人事ローテーション・研修のための制度構築
H23: ③他産業からの転職者、主婦層、中高年齢者等、経験者・有資格者等にこだわらない幅広い採用の仕組みの構築（採用の実績でも可）
H24: ④職業体験の受入れや地域行事への参加や主催等による職業魅力度向上の取組の実施
C25: 資質の向上やキャリアアップに 向けた支援 | H25: ⑤働きながら介護福祉士取得を目指す者に対する実務者研修受講支援や、より専門性の高い介護技術を取得しようとする者に対するユニットリーダー研修、ファーストステップ研修、喀痰吸引、認知症ケア、サービス提供責任者研修、中堅職員に対するマネジメント研修の受講支援等 | AW25: =COUNTIF(F25:G28,"✓")+COUNTIF(F25:G28,"誓約") -> 0
H26: ⑥研修の受講やキャリア段位制度と人事考課との連動
H27: ⑦エルダー・メンター（仕事やメンタル面のサポート等をする担当者）制度等導入
H28: ⑧上位者・担当者等によるキャリア面談など、キャリアアップ・働き方等に関する定期的な相談の機会の確保
C29: 両立支援 ・ 多様な 働き方の 推進 | H29: ⑨子育てや家族等の介護等と仕事の両立を目指す者のための休業制度等の充実、事業所内託児施設の整備 | AW29: =COUNTIF(F29:G32,"✓")+COUNTIF(F29:G32,"誓約") -> 0
H30: ⑩職員の事情等の状況に応じた勤務シフトや短時間正規職員制度の導入、職員の希望に即した非正規職員から正規職員への転換の制度等の整備
H31: ⑪有給休暇を取得しやすい雰囲気・意識作りのため、具体的な取得目標（例えば、１週間以上の休暇を年に●回取得、付与日数のうち●％以上を取得）を定めた上で、取得状況を定期的に確認し、身近な上司等からの積極的な声かけを行っている
H32: ⑫有給休暇の取得促進のため、情報共有や複数担当制等により、業務の属人化の解消、業務配分の偏りの解消を行っている
C33: 腰痛を 含む 心身の 健康管理 | H33: ⑬業務や福利厚生制度、メンタルヘルス等の職員相談窓口の設置等相談体制の充実 | AW33: =COUNTIF(F33:G36,"✓")+COUNTIF(F33:G36,"誓約") -> 0
H34: ⑭短時間勤務労働者等も受診可能な健康診断・ストレスチェックや、従業員のための休憩室の設置等健康管理対策の実施
H35: ⑮職員の身体の負担軽減のための介護技術の修得支援、職員に対する腰痛対策の研修、管理者に対する雇用管理改善の研修等の実施
H36: ⑯事故・トラブルへの対応マニュアル等の作成等の体制の整備
C37: 生産性 向上のため の取組 | H37: ⑰厚生労働省が示している「生産性向上ガイドライン」に基づき、業務改善活動の体制構築（委員会やプロジェクトチームの立ち上げ、外部の研修会の活用等）を行っている | AW37: =COUNTIF(F37:G44,"✓")+COUNTIF(F37:G44,"誓約") -> 0
H38: ⑱現場の課題の見える化（課題の抽出、課題の構造化、業務時間調査の実施等）を実施している
H39: ⑲５S活動（業務管理の手法の１つ。整理・整頓・清掃・清潔・躾の頭文字をとったもの）等の実践による職場環境の整備を行っている
H40: ⑳業務手順書の作成や、記録・報告様式の工夫等による情報共有や作業負担の軽減を行っている
H41: ㉑介護ソフト（記録、情報共有、請求業務転記が不要なもの。）、情報端末（タブレット端末、スマートフォン端末等）の導入
H42: ㉒介護ロボット（見守り支援、移乗支援、移動支援、排泄支援、入浴支援、介護業務支援等）又はインカム等の職員間の連絡調整の迅速化に資するICT機器（ビジネスチャットツール含む）の導入
...

Sheet 様式第１号別紙３（個表） 
A1: 様式第１号別紙３ 令和７年度介護施設等経営改善・従事者処遇改善等緊急支援事業（介護分野の職員の賃上げ・職場環境改善支援事業）計画書（個票） | P1: 提出先 | S1: =IF(基本情報入力シート!C13<>"", 基本情報入力シート!C13, "") -> 岩手県
A2: 法人名 | C2: =IF(基本情報入力シート!L18="", "", 基本情報入力シート!L18)
I3: 【記入上の注意】 ・都道府県ごとに補助金の要件を満たす必要があり、都道府県ごとに振込先の指定方法等、様式が異なる場合もあるため、補助金の計画書は都道府県ごとに作成すること。 ・事業所の数が多く、１枚に記載しきれない場合は、適宜、行を追加してください。 ・別途、都道府県の指定する様式で法人・事業所の振込先の口座情報等を都道府県に届け出ること。 | N3: ①介護従事者に対する 幅広い賃上げ支援 | Q3: ア）処遇改善加算の対象サービス →処遇改善加算取得（又は見込み）事業所が対象 イ）対象外サービス（訪問看護、訪問リハ、居宅介護支援等） →処遇改善加算に準ずる要件を満たす（又は見込み）事業所や ケアプランデータ連携システムに加入（又は見込み）の事業所等が対象
A4: 補助金の見込額［円］ | E4: 合計
F5: うち、処遇改善加算 対象サービス分 | G5: うち、処遇改善加算 対象外サービス分 | N5: ②生産性向上や協働化に取り組む 事業所の介護職員に対する 上乗せの賃上げ支援 | Q5: 処遇改善加算の取得に加え、以下の要件を満たす事業者。 ア）訪問、通所サービス等 → ケアプランデータ連携システムに加入（又は見込み）等。 イ）施設、居住サービス、多機能サービス、短期入所サービス等 → 生産性向上加算Ⅰ又はⅡを取得（又は見込み）等。
B6: ①～③の合計 | E6: =IFERROR(SUM(P15:P114),"") -> 0 | F6: =IFERROR(SUMIF($AN$15:$AN$114,"加算対象",$P$15:$P$114),"") -> 0 | G6: =IFERROR(SUMIF($AN$15:$AN$114,"加算対象外",$P$15:$P$114),"") -> 0 | N6: ③介護職員について、職場環境改善に 取り組む事業所を支援 （介護職員等の賃金改善に充当可能） | Q6: 処遇改善加算を取得の上、職場環境等要件の更なる充足等に向けて、職場環境改善を計画し実施する事業者（要件は、令和６年度補正予算の「介護人材 確保・職場環境改善等事業」と同様）。
B7: （参考） ①～③の合計額とは必ずしも一致しない。 | C7: うち、①＋②部分 | E7: =IF(C2="",0, SUM(E8:E9)) -> 0 | F7: =IF($C$2="", 0, SUM(F8:F9)) -> 0 | G7: =IF($C$2="", 0,G8) -> 0
D8: うち、①部分 | E8: =IF(C2="", 0, SUM(Q15:Q114)) -> 0 | F8: =IF($C$2="", 0, SUMIF($AN$15:$AN$114,"加算対象",$Q$15:$Q$114)) -> 0 | G8: =IF($C$2="", 0, SUMIF($AN$15:$AN$114,"加算対象外",$Q$15:$Q$114)) -> 0
D9: うち、②部分 | E9: =IF(C2="", 0, SUM(R15:R114)) -> 0 | F9: =IF($C$2="", 0, SUMIF($AN$15:$AN$114,"加算対象",$R$15:$R$114)) -> 0
C10: うち、③部分 | E10: =IF(C2="", 0, SUM(S15:S114)) -> 0 | F10: =IF($C$2="", 0, SUMIF($AN$15:$AN$114,"加算対象",$S$15:$S$114)) -> 0
J11: =IF(E6=0, "",IF(COUNTA(基本情報入力シート!$Z$51:$Z$150)=COUNTA(J15:J114),"○","×")) | K11: =IF(E6=0,"",IF(AND(COUNTIF(K15:K114,"要件を満たさない")=0,COUNTA(基本情報入力シート!Z51:AB150)=COUNTIF('様式第１号別紙３（個表） '!K15:K114,"<>")),"○", IF(AND(COUNTIF(K15:K114,"要件を満たさない")>=1,COUNTA(基本情報入力シート!Z51:AB150)=COUNTIF('様式第１号別紙３（個表） '!K15:K114,"<>")),"△","×"))) | L11: =IF(E6=0,"",IF(AND(COUNTIF(L15:L114,"要件を満たさない")=0,COUNTA(基本情報入力シート!Z51:AB150)=COUNTIF(L15:L114,"<>")),"○", IF(AND(COUNTIF(L15:L114,"要件を満たさない")>=1,COUNTA(基本情報入力シート!Z51:AB150)=COUNTIF(L15:L114,"<>")),"△","×")))
A12: 通し番号 | B12: 介護保険事業所番号 | C12: 指定権者名 | D12: 事業所の所在地 | F12: 事業所名 | G12: サービス名 | H12: 令和７年12月の介護報酬総単位数 [単位](a) | I12: １単位あたりの単価[円](b) | J12: ①の要件を満たす | K12: ②の要件を満たす | L12: ③の要件を満たす | M12: 申請する 組み合わせ | N12: 交付率（計）(c) | O12: 基準月 (原則、 令和７年12月） | P12: 補助金の見込額（e）(a×b×c) [円] | T12: =IF(C2="","",IF(OR(COUNTIF(AM15:AM114,"○○×")>0,COUNTIF(AO15:AO114,"×")>0),"×","○")) | U12: ！この欄が「×」の場合、②の要件を満たしているのにも関わらず、③の要件を満たしていないことになっているサービスか、②の要件を満たしていないにもかかわらず、③で「②の要件を満たしている」を選択しているサービスがあります。
Q13: ①部分 | R13: ②部分 | S13: ③部分
D14: 都道府県 | E14: 市区町村 | AG14: 提出先事業所名 | AH14: 要件① | AI14: 要件② | AJ14: 要件③ | AK14: 要件②を満たす | AL14: 要件③を満たす | AM14: 組合せ | AN14: 加算対象サービス | AO14: ②の要件を満たしていないにも関わらず、③で「②の要件を満たしている」と回答している
A15: 1 | B15: =IF(基本情報入力シート!B51="","",基本情報入力シート!B51) | C15: =IF(基本情報入力シート!L51="","",基本情報入力シート!L51) | D15: =IF(基本情報入力シート!Q51="","",基本情報入力シート!Q51) | E15: =IF(基本情報入力シート!V51="","",基本情報入力シート!V51) | F15: =IF(基本情報入力シート!W51="","",基本情報入力シート!W51) | G15: =IF(基本情報入力シート!Z51="","",基本情報入力シート!Z51) | H15: =IFERROR(IF(ROUNDUP($P15/$N15/$I15,0)=0,0,ROUNDUP($P15/$N15/$I15,0)),"") | I15: =IF(基本情報入力シート!AE51="","",基本情報入力シート!AE51) | M15: =IF(G15="", "", VLOOKUP(AM15,【参考】数式用_1!$AZ$3:$BA$6, 2, FALSE)) | N15: =IF(G15="","",VLOOKUP(G15,【参考】数式用_1!$A$4:$L$54,MATCH('様式第１号別紙３（個表） '!M15,【参考】数式用_1!$J$3:$L$3,0)+9,FALSE)) | O15: 令和７年12月 | Q15: =IFERROR(IF(P15="","",ROUNDDOWN(ROUNDDOWN($H15*$I15,0)*VLOOKUP($G15,【参考】数式用_1!$A$4:$E$54,3, FALSE),0)),"") | R15: =IF(AK15="×", 0,IF(P15="","",ROUNDDOWN(ROUNDDOWN($H15*$I15,0)*VLOOKUP($G15,【参考】数式用_1!$A$4:$E$54,4,FALSE),0))) | S15: =IF(AL15="×", 0,IF(P15="","",ROUNDDOWN(ROUNDDOWN($H15*$I15,0)*VLOOKUP($G15,【参考】数式用_1!$A$4:$E$54,5, FALSE),0))) | AG15: =IF(#REF!="○", F15, "") -> #REF! | AH15: =VLOOKUP('様式第１号別紙３（個表） '!$G15,【参考】数式用_1!$P$4:$Q$54,2, FALSE) -> #N/A | AI15: =VLOOKUP('様式第１号別紙３（個表） '!$G15,【参考】数式用_1!$P$4:$W$54,8, FALSE) -> #N/A | AJ15: =VLOOKUP('様式第１号別紙３（個表） '!$G15,【参考】数式用_1!$P$4:$AD$54,15, FALSE) -> #N/A | AK15: =IF(K15="", "", IF(OR(K15="要件を満たさない",K15="―"), "×","○")) | AL15: =IF(L15="", "", IF(OR(L15="要件を満たさない",L15="―"), "×","○")) | AM15: =IF(G15="","", "○"&AK15&AL15) | AN15: =IF(G15="", "", VLOOKUP(G15,【参考】数式用_1!$A$4:$M$54,13,FALSE)) | AO15: =IF(AND(AK15="×",L15="②の要件を満たしている"),"×","―") -> ―
A16: =A15+1 -> 2 | B16: =IF(基本情報入力シート!B52="","",基本情報入力シート!B52) | C16: =IF(基本情報入力シート!L52="","",基本情報入力シート!L52) | D16: =IF(基本情報入力シート!Q52="","",基本情報入力シート!Q52) | E16: =IF(基本情報入力シート!V52="","",基本情報入力シート!V52) | F16: =IF(基本情報入力シート!W52="","",基本情報入力シート!W52) | G16: =IF(基本情報入力シート!Z52="","",基本情報入力シート!Z52) | H16: =IFERROR(IF(ROUNDUP($P16/$N16/$I16,0)=0,0,ROUNDUP($P16/$N16/$I16,0)),"") | I16: =IF(基本情報入力シート!AE52="","",基本情報入力シート!AE52) | M16: =IF(G16="", "", VLOOKUP(AM16,【参考】数式用_1!$AZ$3:$BA$6, 2, FALSE)) | N16: =IF(G16="","",VLOOKUP(G16,【参考】数式用_1!$A$4:$L$54,MATCH('様式第１号別紙３（個表） '!M16,【参考】数式用_1!$J$3:$L$3,0)+9,FALSE)) | O16: 令和７年12月 | Q16: =IFERROR(IF(P16="","",ROUNDDOWN(ROUNDDOWN($H16*$I16,0)*VLOOKUP($G16,【参考】数式用_1!$A$4:$E$54,3, FALSE),0)),"") | R16: =IF(AK16="×", 0,IF(P16="","",ROUNDDOWN(ROUNDDOWN($H16*$I16,0)*VLOOKUP($G16,【参考】数式用_1!$A$4:$E$54,4,FALSE),0))) | S16: =IF(AL16="×", 0,IF(P16="","",ROUNDDOWN(ROUNDDOWN($H16*$I16,0)*VLOOKUP($G16,【参考】数式用_1!$A$4:$E$54,5, FALSE),0))) | AG16: =IF(#REF!="○", F16, "") -> #REF! | AH16: =VLOOKUP('様式第１号別紙３（個表） '!$G16,【参考】数式用_1!$P$4:$Q$54,2, FALSE) -> #N/A | AI16: =VLOOKUP('様式第１号別紙３（個表） '!$G16,【参考】数式用_1!$P$4:$W$54,8, FALSE) -> #N/A | AJ16: =VLOOKUP('様式第１号別紙３（個表） '!$G16,【参考】数式用_1!$P$4:$AD$54,15, FALSE) -> #N/A | AK16: =IF(K16="", "", IF(OR(K16="要件を満たさない",K16="―"), "×","○")) | AL16: =IF(L16="", "", IF(OR(L16="要件を満たさない",L16="―"), "×","○")) | AM16: =IF(G16="","", "○"&AK16&AL16) | AN16: =IF(G16="", "", VLOOKUP(G16,【参考】数式用_1!$A$4:$M$54,13,FALSE)) | AO16: =IF(AND(AK16="×",L16="②の要件を満たしている"),"×","―") -> ―
A17: =A16+1 -> 3 | B17: =IF(基本情報入力シート!B53="","",基本情報入力シート!B53) | C17: =IF(基本情報入力シート!L53="","",基本情報入力シート!L53) | D17: =IF(基本情報入力シート!Q53="","",基本情報入力シート!Q53) | E17: =IF(基本情報入力シート!V53="","",基本情報入力シート!V53) | F17: =IF(基本情報入力シート!W53="","",基本情報入力シート!W53) | G17: =IF(基本情報入力シート!Z53="","",基本情報入力シート!Z53) | H17: =IFERROR(IF(ROUNDUP($P17/$N17/$I17,0)=0,0,ROUNDUP($P17/$N17/$I17,0)),"") | I17: =IF(基本情報入力シート!AE53="","",基本情報入力シート!AE53) | M17: =IF(G17="", "", VLOOKUP(AM17,【参考】数式用_1!$AZ$3:$BA$6, 2, FALSE)) | N17: =IF(G17="","",VLOOKUP(G17,【参考】数式用_1!$A$4:$L$54,MATCH('様式第１号別紙３（個表） '!M17,【参考】数式用_1!$J$3:$L$3,0)+9,FALSE)) | O17: 令和７年12月 | Q17: =IFERROR(IF(P17="","",ROUNDDOWN(ROUNDDOWN($H17*$I17,0)*VLOOKUP($G17,【参考】数式用_1!$A$4:$E$54,3, FALSE),0)),"") | R17: =IF(AK17="×", 0,IF(P17="","",ROUNDDOWN(ROUNDDOWN($H17*$I17,0)*VLOOKUP($G17,【参考】数式用_1!$A$4:$E$54,4,FALSE),0))) | S17: =IF(AL17="×", 0,IF(P17="","",ROUNDDOWN(ROUNDDOWN($H17*$I17,0)*VLOOKUP($G17,【参考】数式用_1!$A$4:$E$54,5, FALSE),0))) | AG17: =IF(#REF!="○", F17, "") -> #REF! | AH17: =VLOOKUP('様式第１号別紙３（個表） '!$G17,【参考】数式用_1!$P$4:$Q$54,2, FALSE) -> #N/A | AI17: =VLOOKUP('様式第１号別紙３（個表） '!$G17,【参考】数式用_1!$P$4:$W$54,8, FALSE) -> #N/A | AJ17: =VLOOKUP('様式第１号別紙３（個表） '!$G17,【参考】数式用_1!$P$4:$AD$54,15, FALSE) -> #N/A | AK17: =IF(K17="", "", IF(OR(K17="要件を満たさない",K17="―"), "×","○")) | AL17: =IF(L17="", "", IF(OR(L17="要件を満たさない",L17="―"), "×","○")) | AM17: =IF(G17="","", "○"&AK17&AL17) | AN17: =IF(G17="", "", VLOOKUP(G17,【参考】数式用_1!$A$4:$M$54,13,FALSE)) | AO17: =IF(AND(AK17="×",L17="②の要件を満たしている"),"×","―") -> ―
A18: =A17+1 -> 4 | B18: =IF(基本情報入力シート!B54="","",基本情報入力シート!B54) | C18: =IF(基本情報入力シート!L54="","",基本情報入力シート!L54) | D18: =IF(基本情報入力シート!Q54="","",基本情報入力シート!Q54) | E18: =IF(基本情報入力シート!V54="","",基本情報入力シート!V54) | F18: =IF(基本情報入力シート!W54="","",基本情報入力シート!W54) | G18: =IF(基本情報入力シート!Z54="","",基本情報入力シート!Z54) | H18: =IFERROR(IF(ROUNDUP($P18/$N18/$I18,0)=0,0,ROUNDUP($P18/$N18/$I18,0)),"") | I18: =IF(基本情報入力シート!AE54="","",基本情報入力シート!AE54) | M18: =IF(G18="", "", VLOOKUP(AM18,【参考】数式用_1!$AZ$3:$BA$6, 2, FALSE)) | N18: =IF(G18="","",VLOOKUP(G18,【参考】数式用_1!$A$4:$L$54,MATCH('様式第１号別紙３（個表） '!M18,【参考】数式用_1!$J$3:$L$3,0)+9,FALSE)) | O18: 令和７年12月 | Q18: =IFERROR(IF(P18="","",ROUNDDOWN(ROUNDDOWN($H18*$I18,0)*VLOOKUP($G18,【参考】数式用_1!$A$4:$E$54,3, FALSE),0)),"") | R18: =IF(AK18="×", 0,IF(P18="","",ROUNDDOWN(ROUNDDOWN($H18*$I18,0)*VLOOKUP($G18,【参考】数式用_1!$A$4:$E$54,4,FALSE),0))) | S18: =IF(AL18="×", 0,IF(P18="","",ROUNDDOWN(ROUNDDOWN($H18*$I18,0)*VLOOKUP($G18,【参考】数式用_1!$A$4:$E$54,5, FALSE),0))) | AG18: =IF(#REF!="○", F18, "") -> #REF! | AH18: =VLOOKUP('様式第１号別紙３（個表） '!$G18,【参考】数式用_1!$P$4:$Q$54,2, FALSE) -> #N/A | AI18: =VLOOKUP('様式第１号別紙３（個表） '!$G18,【参考】数式用_1!$P$4:$W$54,8, FALSE) -> #N/A | AJ18: =VLOOKUP('様式第１号別紙３（個表） '!$G18,【参考】数式用_1!$P$4:$AD$54,15, FALSE) -> #N/A | AK18: =IF(K18="", "", IF(OR(K18="要件を満たさない",K18="―"), "×","○")) | AL18: =IF(L18="", "", IF(OR(L18="要件を満たさない",L18="―"), "×","○")) | AM18: =IF(G18="","", "○"&AK18&AL18) | AN18: =IF(G18="", "", VLOOKUP(G18,【参考】数式用_1!$A$4:$M$54,13,FALSE)) | AO18: =IF(AND(AK18="×",L18="②の要件を満たしている"),"×","―") -> ―
A19: =A18+1 -> 5 | B19: =IF(基本情報入力シート!B55="","",基本情報入力シート!B55) | C19: =IF(基本情報入力シート!L55="","",基本情報入力シート!L55) | D19: =IF(基本情報入力シート!Q55="","",基本情報入力シート!Q55) | E19: =IF(基本情報入力シート!V55="","",基本情報入力シート!V55) | F19: =IF(基本情報入力シート!W55="","",基本情報入力シート!W55) | G19: =IF(基本情報入力シート!Z55="","",基本情報入力シート!Z55) | H19: =IFERROR(IF(ROUNDUP($P19/$N19/$I19,0)=0,0,ROUNDUP($P19/$N19/$I19,0)),"") | I19: =IF(基本情報入力シート!AE55="","",基本情報入力シート!AE55) | M19: =IF(G19="", "", VLOOKUP(AM19,【参考】数式用_1!$AZ$3:$BA$6, 2, FALSE)) | N19: =IF(G19="","",VLOOKUP(G19,【参考】数式用_1!$A$4:$L$54,MATCH('様式第１号別紙３（個表） '!M19,【参考】数式用_1!$J$3:$L$3,0)+9,FALSE)) | O19: 令和７年12月 | Q19: =IFERROR(IF(P19="","",ROUNDDOWN(ROUNDDOWN($H19*$I19,0)*VLOOKUP($G19,【参考】数式用_1!$A$4:$E$54,3, FALSE),0)),"") | R19: =IF(AK19="×", 0,IF(P19="","",ROUNDDOWN(ROUNDDOWN($H19*$I19,0)*VLOOKUP($G19,【参考】数式用_1!$A$4:$E$54,4,FALSE),0))) | S19: =IF(AL19="×", 0,IF(P19="","",ROUNDDOWN(ROUNDDOWN($H19*$I19,0)*VLOOKUP($G19,【参考】数式用_1!$A$4:$E$54,5, FALSE),0))) | AG19: =IF(#REF!="○", F19, "") -> #REF! | AH19: =VLOOKUP('様式第１号別紙３（個表） '!$G19,【参考】数式用_1!$P$4:$Q$54,2, FALSE) -> #N/A | AI19: =VLOOKUP('様式第１号別紙３（個表） '!$G19,【参考】数式用_1!$P$4:$W$54,8, FALSE) -> #N/A | AJ19: =VLOOKUP('様式第１号別紙３（個表） '!$G19,【参考】数式用_1!$P$4:$AD$54,15, FALSE) -> #N/A | AK19: =IF(K19="", "", IF(OR(K19="要件を満たさない",K19="―"), "×","○")) | AL19: =IF(L19="", "", IF(OR(L19="要件を満たさない",L19="―"), "×","○")) | AM19: =IF(G19="","", "○"&AK19&AL19) | AN19: =IF(G19="", "", VLOOKUP(G19,【参考】数式用_1!$A$4:$M$54,13,FALSE)) | AO19: =IF(AND(AK19="×",L19="②の要件を満たしている"),"×","―") -> ―
A20: =A19+1 -> 6 | B20: =IF(基本情報入力シート!B56="","",基本情報入力シート!B56) | C20: =IF(基本情報入力シート!L56="","",基本情報入力シート!L56) | D20: =IF(基本情報入力シート!Q56="","",基本情報入力シート!Q56) | E20: =IF(基本情報入力シート!V56="","",基本情報入力シート!V56) | F20: =IF(基本情報入力シート!W56="","",基本情報入力シート!W56) | G20: =IF(基本情報入力シート!Z56="","",基本情報入力シート!Z56) | H20: =IFERROR(IF(ROUNDUP($P20/$N20/$I20,0)=0,0,ROUNDUP($P20/$N20/$I20,0)),"") | I20: =IF(基本情報入力シート!AE56="","",基本情報入力シート!AE56) | M20: =IF(G20="", "", VLOOKUP(AM20,【参考】数式用_1!$AZ$3:$BA$6, 2, FALSE)) | N20: =IF(G20="","",VLOOKUP(G20,【参考】数式用_1!$A$4:$L$54,MATCH('様式第１号別紙３（個表） '!M20,【参考】数式用_1!$J$3:$L$3,0)+9,FALSE)) | O20: 令和７年12月 | Q20: =IFERROR(IF(P20="","",ROUNDDOWN(ROUNDDOWN($H20*$I20,0)*VLOOKUP($G20,【参考】数式用_1!$A$4:$E$54,3, FALSE),0)),"") | R20: =IF(AK20="×", 0,IF(P20="","",ROUNDDOWN(ROUNDDOWN($H20*$I20,0)*VLOOKUP($G20,【参考】数式用_1!$A$4:$E$54,4,FALSE),0))) | S20: =IF(AL20="×", 0,IF(P20="","",ROUNDDOWN(ROUNDDOWN($H20*$I20,0)*VLOOKUP($G20,【参考】数式用_1!$A$4:$E$54,5, FALSE),0))) | AG20: =IF(#REF!="○", F20, "") -> #REF! | AH20: =VLOOKUP('様式第１号別紙３（個表） '!$G20,【参考】数式用_1!$P$4:$Q$54,2, FALSE) -> #N/A | AI20: =VLOOKUP('様式第１号別紙３（個表） '!$G20,【参考】数式用_1!$P$4:$W$54,8, FALSE) -> #N/A | AJ20: =VLOOKUP('様式第１号別紙３（個表） '!$G20,【参考】数式用_1!$P$4:$AD$54,15, FALSE) -> #N/A | AK20: =IF(K20="", "", IF(OR(K20="要件を満たさない",K20="―"), "×","○")) | AL20: =IF(L20="", "", IF(OR(L20="要件を満たさない",L20="―"), "×","○")) | AM20: =IF(G20="","", "○"&AK20&AL20) | AN20: =IF(G20="", "", VLOOKUP(G20,【参考】数式用_1!$A$4:$M$54,13,FALSE)) | AO20: =IF(AND(AK20="×",L20="②の要件を満たしている"),"×","―") -> ―
A21: =A20+1 -> 7 | B21: =IF(基本情報入力シート!B57="","",基本情報入力シート!B57) | C21: =IF(基本情報入力シート!L57="","",基本情報入力シート!L57) | D21: =IF(基本情報入力シート!Q57="","",基本情報入力シート!Q57) | E21: =IF(基本情報入力シート!V57="","",基本情報入力シート!V57) | F21: =IF(基本情報入力シート!W57="","",基本情報入力シート!W57) | G21: =IF(基本情報入力シート!Z57="","",基本情報入力シート!Z57) | H21: =IFERROR(IF(ROUNDUP($P21/$N21/$I21,0)=0,0,ROUNDUP($P21/$N21/$I21,0)),"") | I21: =IF(基本情報入力シート!AE57="","",基本情報入力シート!AE57) | M21: =IF(G21="", "", VLOOKUP(AM21,【参考】数式用_1!$AZ$3:$BA$6, 2, FALSE)) | N21: =IF(G21="","",VLOOKUP(G21,【参考】数式用_1!$A$4:$L$54,MATCH('様式第１号別紙３（個表） '!M21,【参考】数式用_1!$J$3:$L$3,0)+9,FALSE)) | O21: 令和７年12月 | Q21: =IFERROR(IF(P21="","",ROUNDDOWN(ROUNDDOWN($H21*$I21,0)*VLOOKUP($G21,【参考】数式用_1!$A$4:$E$54,3, FALSE),0)),"") | R21: =IF(AK21="×", 0,IF(P21="","",ROUNDDOWN(ROUNDDOWN($H21*$I21,0)*VLOOKUP($G21,【参考】数式用_1!$A$4:$E$54,4,FALSE),0))) | S21: =IF(AL21="×", 0,IF(P21="","",ROUNDDOWN(ROUNDDOWN($H21*$I21,0)*VLOOKUP($G21,【参考】数式用_1!$A$4:$E$54,5, FALSE),0))) | AG21: =IF(#REF!="○", F21, "") -> #REF! | AH21: =VLOOKUP('様式第１号別紙３（個表） '!$G21,【参考】数式用_1!$P$4:$Q$54,2, FALSE) -> #N/A | AI21: =VLOOKUP('様式第１号別紙３（個表） '!$G21,【参考】数式用_1!$P$4:$W$54,8, FALSE) -> #N/A | AJ21: =VLOOKUP('様式第１号別紙３（個表） '!$G21,【参考】数式用_1!$P$4:$AD$54,15, FALSE) -> #N/A | AK21: =IF(K21="", "", IF(OR(K21="要件を満たさない",K21="―"), "×","○")) | AL21: =IF(L21="", "", IF(OR(L21="要件を満たさない",L21="―"), "×","○")) | AM21: =IF(G21="","", "○"&AK21&AL21) | AN21: =IF(G21="", "", VLOOKUP(G21,【参考】数式用_1!$A$4:$M$54,13,FALSE)) | AO21: =IF(AND(AK21="×",L21="②の要件を満たしている"),"×","―") -> ―
A22: =A21+1 -> 8 | B22: =IF(基本情報入力シート!B58="","",基本情報入力シート!B58) | C22: =IF(基本情報入力シート!L58="","",基本情報入力シート!L58) | D22: =IF(基本情報入力シート!Q58="","",基本情報入力シート!Q58) | E22: =IF(基本情報入力シート!V58="","",基本情報入力シート!V58) | F22: =IF(基本情報入力シート!W58="","",基本情報入力シート!W58) | G22: =IF(基本情報入力シート!Z58="","",基本情報入力シート!Z58) | H22: =IFERROR(IF(ROUNDUP($P22/$N22/$I22,0)=0,0,ROUNDUP($P22/$N22/$I22,0)),"") | I22: =IF(基本情報入力シート!AE58="","",基本情報入力シート!AE58) | M22: =IF(G22="", "", VLOOKUP(AM22,【参考】数式用_1!$AZ$3:$BA$6, 2, FALSE)) | N22: =IF(G22="","",VLOOKUP(G22,【参考】数式用_1!$A$4:$L$54,MATCH('様式第１号別紙３（個表） '!M22,【参考】数式用_1!$J$3:$L$3,0)+9,FALSE)) | O22: 令和７年12月 | Q22: =IFERROR(IF(P22="","",ROUNDDOWN(ROUNDDOWN($H22*$I22,0)*VLOOKUP($G22,【参考】数式用_1!$A$4:$E$54,3, FALSE),0)),"") | R22: =IF(AK22="×", 0,IF(P22="","",ROUNDDOWN(ROUNDDOWN($H22*$I22,0)*VLOOKUP($G22,【参考】数式用_1!$A$4:$E$54,4,FALSE),0))) | S22: =IF(AL22="×", 0,IF(P22="","",ROUNDDOWN(ROUNDDOWN($H22*$I22,0)*VLOOKUP($G22,【参考】数式用_1!$A$4:$E$54,5, FALSE),0))) | AG22: =IF(#REF!="○", F22, "") -> #REF! | AH22: =VLOOKUP('様式第１号別紙３（個表） '!$G22,【参考】数式用_1!$P$4:$Q$54,2, FALSE) -> #N/A | AI22: =VLOOKUP('様式第１号別紙３（個表） '!$G22,【参考】数式用_1!$P$4:$W$54,8, FALSE) -> #N/A | AJ22: =VLOOKUP('様式第１号別紙３（個表） '!$G22,【参考】数式用_1!$P$4:$AD$54,15, FALSE) -> #N/A | AK22: =IF(K22="", "", IF(OR(K22="要件を満たさない",K22="―"), "×","○")) | AL22: =IF(L22="", "", IF(OR(L22="要件を満たさない",L22="―"), "×","○")) | AM22: =IF(G22="","", "○"&AK22&AL22) | AN22: =IF(G22="", "", VLOOKUP(G22,【参考】数式用_1!$A$4:$M$54,13,FALSE)) | AO22: =IF(AND(AK22="×",L22="②の要件を満たしている"),"×","―") -> ―
A23: =A22+1 -> 9 | B23: =IF(基本情報入力シート!B59="","",基本情報入力シート!B59) | C23: =IF(基本情報入力シート!L59="","",基本情報入力シート!L59) | D23: =IF(基本情報入力シート!Q59="","",基本情報入力シート!Q59) | E23: =IF(基本情報入力シート!V59="","",基本情報入力シート!V59) | F23: =IF(基本情報入力シート!W59="","",基本情報入力シート!W59) | G23: =IF(基本情報入力シート!Z59="","",基本情報入力シート!Z59) | H23: =IFERROR(IF(ROUNDUP($P23/$N23/$I23,0)=0,0,ROUNDUP($P23/$N23/$I23,0)),"") | I23: =IF(基本情報入力シート!AE59="","",基本情報入力シート!AE59) | M23: =IF(G23="", "", VLOOKUP(AM23,【参考】数式用_1!$AZ$3:$BA$6, 2, FALSE)) | N23: =IF(G23="","",VLOOKUP(G23,【参考】数式用_1!$A$4:$L$54,MATCH('様式第１号別紙３（個表） '!M23,【参考】数式用_1!$J$3:$L$3,0)+9,FALSE)) | O23: 令和７年12月 | Q23: =IFERROR(IF(P23="","",ROUNDDOWN(ROUNDDOWN($H23*$I23,0)*VLOOKUP($G23,【参考】数式用_1!$A$4:$E$54,3, FALSE),0)),"") | R23: =IF(AK23="×", 0,IF(P23="","",ROUNDDOWN(ROUNDDOWN($H23*$I23,0)*VLOOKUP($G23,【参考】数式用_1!$A$4:$E$54,4,FALSE),0))) | S23: =IF(AL23="×", 0,IF(P23="","",ROUNDDOWN(ROUNDDOWN($H23*$I23,0)*VLOOKUP($G23,【参考】数式用_1!$A$4:$E$54,5, FALSE),0))) | AG23: =IF(#REF!="○", F23, "") -> #REF! | AH23: =VLOOKUP('様式第１号別紙３（個表） '!$G23,【参考】数式用_1!$P$4:$Q$54,2, FALSE) -> #N/A | AI23: =VLOOKUP('様式第１号別紙３（個表） '!$G23,【参考】数式用_1!$P$4:$W$54,8, FALSE) -> #N/A | AJ23: =VLOOKUP('様式第１号別紙３（個表） '!$G23,【参考】数式用_1!$P$4:$AD$54,15, FALSE) -> #N/A | AK23: =IF(K23="", "", IF(OR(K23="要件を満たさない",K23="―"), "×","○")) | AL23: =IF(L23="", "", IF(OR(L23="要件を満たさない",L23="―"), "×","○")) | AM23: =IF(G23="","", "○"&AK23&AL23) | AN23: =IF(G23="", "", VLOOKUP(G23,【参考】数式用_1!$A$4:$M$54,13,FALSE)) | AO23: =IF(AND(AK23="×",L23="②の要件を満たしている"),"×","―") -> ―
A24: =A23+1 -> 10 | B24: =IF(基本情報入力シート!B60="","",基本情報入力シート!B60) | C24: =IF(基本情報入力シート!L60="","",基本情報入力シート!L60) | D24: =IF(基本情報入力シート!Q60="","",基本情報入力シート!Q60) | E24: =IF(基本情報入力シート!V60="","",基本情報入力シート!V60) | F24: =IF(基本情報入力シート!W60="","",基本情報入力シート!W60) | G24: =IF(基本情報入力シート!Z60="","",基本情報入力シート!Z60) | H24: =IFERROR(IF(ROUNDUP($P24/$N24/$I24,0)=0,0,ROUNDUP($P24/$N24/$I24,0)),"") | I24: =IF(基本情報入力シート!AE60="","",基本情報入力シート!AE60) | M24: =IF(G24="", "", VLOOKUP(AM24,【参考】数式用_1!$AZ$3:$BA$6, 2, FALSE)) | N24: =IF(G24="","",VLOOKUP(G24,【参考】数式用_1!$A$4:$L$54,MATCH('様式第１号別紙３（個表） '!M24,【参考】数式用_1!$J$3:$L$3,0)+9,FALSE)) | O24: 令和７年12月 | Q24: =IFERROR(IF(P24="","",ROUNDDOWN(ROUNDDOWN($H24*$I24,0)*VLOOKUP($G24,【参考】数式用_1!$A$4:$E$54,3, FALSE),0)),"") | R24: =IF(AK24="×", 0,IF(P24="","",ROUNDDOWN(ROUNDDOWN($H24*$I24,0)*VLOOKUP($G24,【参考】数式用_1!$A$4:$E$54,4,FALSE),0))) | S24: =IF(AL24="×", 0,IF(P24="","",ROUNDDOWN(ROUNDDOWN($H24*$I24,0)*VLOOKUP($G24,【参考】数式用_1!$A$4:$E$54,5, FALSE),0))) | AG24: =IF(#REF!="○", F24, "") -> #REF! | AH24: =VLOOKUP('様式第１号別紙３（個表） '!$G24,【参考】数式用_1!$P$4:$Q$54,2, FALSE) -> #N/A | AI24: =VLOOKUP('様式第１号別紙３（個表） '!$G24,【参考】数式用_1!$P$4:$W$54,8, FALSE) -> #N/A | AJ24: =VLOOKUP('様式第１号別紙３（個表） '!$G24,【参考】数式用_1!$P$4:$AD$54,15, FALSE) -> #N/A | AK24: =IF(K24="", "", IF(OR(K24="要件を満たさない",K24="―"), "×","○")) | AL24: =IF(L24="", "", IF(OR(L24="要件を満たさない",L24="―"), "×","○")) | AM24: =IF(G24="","", "○"&AK24&AL24) | AN24: =IF(G24="", "", VLOOKUP(G24,【参考】数式用_1!$A$4:$M$54,13,FALSE)) | AO24: =IF(AND(AK24="×",L24="②の要件を満たしている"),"×","―") -> ―
A25: =A24+1 -> 11 | B25: =IF(基本情報入力シート!B61="","",基本情報入力シート!B61) | C25: =IF(基本情報入力シート!L61="","",基本情報入力シート!L61) | D25: =IF(基本情報入力シート!Q61="","",基本情報入力シート!Q61) | E25: =IF(基本情報入力シート!V61="","",基本情報入力シート!V61) | F25: =IF(基本情報入力シート!W61="","",基本情報入力シート!W61) | G25: =IF(基本情報入力シート!Z61="","",基本情報入力シート!Z61) | H25: =IFERROR(IF(ROUNDUP($P25/$N25/$I25,0)=0,0,ROUNDUP($P25/$N25/$I25,0)),"") | I25: =IF(基本情報入力シート!AE61="","",基本情報入力シート!AE61) | M25: =IF(G25="", "", VLOOKUP(AM25,【参考】数式用_1!$AZ$3:$BA$6, 2, FALSE)) | N25: =IF(G25="","",VLOOKUP(G25,【参考】数式用_1!$A$4:$L$54,MATCH('様式第１号別紙３（個表） '!M25,【参考】数式用_1!$J$3:$L$3,0)+9,FALSE)) | O25: 令和７年12月 | Q25: =IFERROR(IF(P25="","",ROUNDDOWN(ROUNDDOWN($H25*$I25,0)*VLOOKUP($G25,【参考】数式用_1!$A$4:$E$54,3, FALSE),0)),"") | R25: =IF(AK25="×", 0,IF(P25="","",ROUNDDOWN(ROUNDDOWN($H25*$I25,0)*VLOOKUP($G25,【参考】数式用_1!$A$4:$E$54,4,FALSE),0))) | S25: =IF(AL25="×", 0,IF(P25="","",ROUNDDOWN(ROUNDDOWN($H25*$I25,0)*VLOOKUP($G25,【参考】数式用_1!$A$4:$E$54,5, FALSE),0))) | AG25: =IF(#REF!="○", F25, "") -> #REF! | AH25: =VLOOKUP('様式第１号別紙３（個表） '!$G25,【参考】数式用_1!$P$4:$Q$54,2, FALSE) -> #N/A | AI25: =VLOOKUP('様式第１号別紙３（個表） '!$G25,【参考】数式用_1!$P$4:$W$54,8, FALSE) -> #N/A | AJ25: =VLOOKUP('様式第１号別紙３（個表） '!$G25,【参考】数式用_1!$P$4:$AD$54,15, FALSE) -> #N/A | AK25: =IF(K25="", "", IF(OR(K25="要件を満たさない",K25="―"), "×","○")) | AL25: =IF(L25="", "", IF(OR(L25="要件を満たさない",L25="―"), "×","○")) | AM25: =IF(G25="","", "○"&AK25&AL25) | AN25: =IF(G25="", "", VLOOKUP(G25,【参考】数式用_1!$A$4:$M$54,13,FALSE)) | AO25: =IF(AND(AK25="×",L25="②の要件を満たしている"),"×","―") -> ―
A26: =A25+1 -> 12 | B26: =IF(基本情報入力シート!B62="","",基本情報入力シート!B62) | C26: =IF(基本情報入力シート!L62="","",基本情報入力シート!L62) | D26: =IF(基本情報入力シート!Q62="","",基本情報入力シート!Q62) | E26: =IF(基本情報入力シート!V62="","",基本情報入力シート!V62) | F26: =IF(基本情報入力シート!W62="","",基本情報入力シート!W62) | G26: =IF(基本情報入力シート!Z62="","",基本情報入力シート!Z62) | H26: =IFERROR(IF(ROUNDUP($P26/$N26/$I26,0)=0,0,ROUNDUP($P26/$N26/$I26,0)),"") | I26: =IF(基本情報入力シート!AE62="","",基本情報入力シート!AE62) | M26: =IF(G26="", "", VLOOKUP(AM26,【参考】数式用_1!$AZ$3:$BA$6, 2, FALSE)) | N26: =IF(G26="","",VLOOKUP(G26,【参考】数式用_1!$A$4:$L$54,MATCH('様式第１号別紙３（個表） '!M26,【参考】数式用_1!$J$3:$L$3,0)+9,FALSE)) | O26: 令和７年12月 | Q26: =IFERROR(IF(P26="","",ROUNDDOWN(ROUNDDOWN($H26*$I26,0)*VLOOKUP($G26,【参考】数式用_1!$A$4:$E$54,3, FALSE),0)),"") | R26: =IF(AK26="×", 0,IF(P26="","",ROUNDDOWN(ROUNDDOWN($H26*$I26,0)*VLOOKUP($G26,【参考】数式用_1!$A$4:$E$54,4,FALSE),0))) | S26: =IF(AL26="×", 0,IF(P26="","",ROUNDDOWN(ROUNDDOWN($H26*$I26,0)*VLOOKUP($G26,【参考】数式用_1!$A$4:$E$54,5, FALSE),0))) | AG26: =IF(#REF!="○", F26, "") -> #REF! | AH26: =VLOOKUP('様式第１号別紙３（個表） '!$G26,【参考】数式用_1!$P$4:$Q$54,2, FALSE) -> #N/A | AI26: =VLOOKUP('様式第１号別紙３（個表） '!$G26,【参考】数式用_1!$P$4:$W$54,8, FALSE) -> #N/A | AJ26: =VLOOKUP('様式第１号別紙３（個表） '!$G26,【参考】数式用_1!$P$4:$AD$54,15, FALSE) -> #N/A | AK26: =IF(K26="", "", IF(OR(K26="要件を満たさない",K26="―"), "×","○")) | AL26: =IF(L26="", "", IF(OR(L26="要件を満たさない",L26="―"), "×","○")) | AM26: =IF(G26="","", "○"&AK26&AL26) | AN26: =IF(G26="", "", VLOOKUP(G26,【参考】数式用_1!$A$4:$M$54,13,FALSE)) | AO26: =IF(AND(AK26="×",L26="②の要件を満たしている"),"×","―") -> ―
A27: =A26+1 -> 13 | B27: =IF(基本情報入力シート!B63="","",基本情報入力シート!B63) | C27: =IF(基本情報入力シート!L63="","",基本情報入力シート!L63) | D27: =IF(基本情報入力シート!Q63="","",基本情報入力シート!Q63) | E27: =IF(基本情報入力シート!V63="","",基本情報入力シート!V63) | F27: =IF(基本情報入力シート!W63="","",基本情報入力シート!W63) | G27: =IF(基本情報入力シート!Z63="","",基本情報入力シート!Z63) | H27: =IFERROR(IF(ROUNDUP($P27/$N27/$I27,0)=0,0,ROUNDUP($P27/$N27/$I27,0)),"") | I27: =IF(基本情報入力シート!AE63="","",基本情報入力シート!AE63) | M27: =IF(G27="", "", VLOOKUP(AM27,【参考】数式用_1!$AZ$3:$BA$6, 2, FALSE)) | N27: =IF(G27="","",VLOOKUP(G27,【参考】数式用_1!$A$4:$L$54,MATCH('様式第１号別紙３（個表） '!M27,【参考】数式用_1!$J$3:$L$3,0)+9,FALSE)) | O27: 令和７年12月 | Q27: =IFERROR(IF(P27="","",ROUNDDOWN(ROUNDDOWN($H27*$I27,0)*VLOOKUP($G27,【参考】数式用_1!$A$4:$E$54,3, FALSE),0)),"") | R27: =IF(AK27="×", 0,IF(P27="","",ROUNDDOWN(ROUNDDOWN($H27*$I27,0)*VLOOKUP($G27,【参考】数式用_1!$A$4:$E$54,4,FALSE),0))) | S27: =IF(AL27="×", 0,IF(P27="","",ROUNDDOWN(ROUNDDOWN($H27*$I27,0)*VLOOKUP($G27,【参考】数式用_1!$A$4:$E$54,5, FALSE),0))) | AG27: =IF(#REF!="○", F27, "") -> #REF! | AH27: =VLOOKUP('様式第１号別紙３（個表） '!$G27,【参考】数式用_1!$P$4:$Q$54,2, FALSE) -> #N/A | AI27: =VLOOKUP('様式第１号別紙３（個表） '!$G27,【参考】数式用_1!$P$4:$W$54,8, FALSE) -> #N/A | AJ27: =VLOOKUP('様式第１号別紙３（個表） '!$G27,【参考】数式用_1!$P$4:$AD$54,15, FALSE) -> #N/A | AK27: =IF(K27="", "", IF(OR(K27="要件を満たさない",K27="―"), "×","○")) | AL27: =IF(L27="", "", IF(OR(L27="要件を満たさない",L27="―"), "×","○")) | AM27: =IF(G27="","", "○"&AK27&AL27) | AN27: =IF(G27="", "", VLOOKUP(G27,【参考】数式用_1!$A$4:$M$54,13,FALSE)) | AO27: =IF(AND(AK27="×",L27="②の要件を満たしている"),"×","―") -> ―
... A114: =A113+1 -> 100 | B114: =IF(基本情報入力シート!B150="","",基本情報入力シート!B150) | C114: =IF(基本情報入力シート!L150="","",基本情報入力シート!L150) | D114: =IF(基本情報入力シート!Q150="","",基本情報入力シート!Q150) | E114: =IF(基本情報入力シート!V150="","",基本情報入力シート!V150) | F114: =IF(基本情報入力シート!W150="","",基本情報入力シート!W150) | G114: =IF(基本情報入力シート!Z150="","",基本情報入力シート!Z150) | H114: =IFERROR(IF(ROUNDUP($P114/$N114/$I114,0)=0,0,ROUNDUP($P114/$N114/$I114,0)),"") | I114: =IF(基本情報入力シート!AE150="","",基本情報入力シート!AE150) | M114: =IF(G114="", "", VLOOKUP(AM114,【参考】数式用_1!$AZ$3:$BA$6, 2, FALSE)) | N114: =IF(G114="","",VLOOKUP(G114,【参考】数式用_1!$A$4:$L$54,MATCH('様式第１号別紙３（個表） '!M114,【参考】数式用_1!$J$3:$L$3,0)+9,FALSE)) | O114: 令和７年12月 | Q114: =IFERROR(IF(P114="","",ROUNDDOWN(ROUNDDOWN($H114*$I114,0)*VLOOKUP($G114,【参考】数式用_1!$A$4:$E$54,3, FALSE),0)),"") | R114: =IF(AK114="×", 0,IF(P114="","",ROUNDDOWN(ROUNDDOWN($H114*$I114,0)*VLOOKUP($G114,【参考】数式用_1!$A$4:$E$54,4,FALSE),0))) | S114: =IF(AL114="×", 0,IF(P114="","",ROUNDDOWN(ROUNDDOWN($H114*$I114,0)*VLOOKUP($G114,【参考】数式用_1!$A$4:$E$54,5, FALSE),0))) | AG114: =IF(#REF!="○", F114, "") -> #REF! | AH114: =VLOOKUP('様式第１号別紙３（個表） '!$G114,【参考】数式用_1!$P$4:$Q$54,2, FALSE) -> #N/A | AI114: =VLOOKUP('様式第１号別紙３（個表） '!$G114,【参考】数式用_1!$P$4:$W$54,8, FALSE) -> #N/A | AJ114: =VLOOKUP('様式第１号別紙３（個表） '!$G114,【参考】数式用_1!$P$4:$AD$54,15, FALSE) -> #N/A | AK114: =IF(K114="", "", IF(OR(K114="要件を満たさない",K114="―"), "×","○")) | AL114: =IF(L114="", "", IF(OR(L114="要件を満たさない",L114="―"), "×","○")) | AM114: =IF(G114="","", "○"&AK114&AL114) | AN114: =IF(G114="", "", VLOOKUP(G114,【参考】数式用_1!$A$4:$M$54,13,FALSE)) | AO114: =IF(AND(AK114="×",L114="②の要件を満たしている"),"×","―") -> ―

Sheet 様式第２号別紙変更届様式
A1: 様式第２号別紙
A3: 変更に係る届出書（令和７年度介護施設等経営改善・従事者処遇改善等緊急支援事業 （介護分野の職員の賃上げ・職場環境改善支援事業））
A5: 基本情報
A7: フリガナ | E7: =IF(基本情報入力シート!L17="","",基本情報入力シート!L17)
A8: 法人名 | E8: =IF(基本情報入力シート!L18="","",基本情報入力シート!L18)
A9: 法人所在地 | E9: 〒 | F9: =IF(基本情報入力シート!AN20="－","",基本情報入力シート!AN20) -> -
E10: =IF(基本情報入力シート!L20="","",基本情報入力シート!L20)
E11: =IF(基本情報入力シート!L21="","",基本情報入力シート!L21)
A12: フリガナ | E12: =IF(基本情報入力シート!L25="","",基本情報入力シート!L25)
A13: 書類作成担当者 | E13: =IF(基本情報入力シート!L26="","",基本情報入力シート!L26)
A14: 連絡先 | E14: 電話番号 | H14: =IF(基本情報入力シート!L27="","",基本情報入力シート!L27) | R14: E-mail | V14: =IF(基本情報入力シート!L28="","",基本情報入力シート!L28)
A16: 令和７年度介護施設等経営改善・従事者処遇改善等緊急支援事業（介護分野の職員の賃上げ・職場環境改善支援事業）に係る計画書の内容について、次のとおり変更するので、必要書類を添えて届け出ます。
A18: １変更が生じた日 | E18: 令和 | G18: =基本情報入力シート!J35 -> 8 | I18: 年 | J18: =IF(基本情報入力シート!O35="","",基本情報入力シート!O35) | L18: 月 | M18: =IF(基本情報入力シート!T35="","",基本情報入力シート!T35) | O18: 日
A19: ２ 変更の概要 | E19: ='様式第2号（別表第２関係)'!E21 -> ---------------選択してください---------------
C22: 令和 | E22: =基本情報入力シート!J35 -> 8 | F22: 年 | G22: =IF(基本情報入力シート!O35="","",基本情報入力シート!O35) | I22: 月 | J22: =IF(基本情報入力シート!T35="","",基本情報入力シート!T35) | L22: 日 | O22: （法人名） | T22: =IF(基本情報入力シート!L18="","",基本情報入力シート!L18)
O23: （代表者名） | T23: =IF(基本情報入力シート!L23="","",基本情報入力シート!L23)

Sheet 様式第2号（別表第２関係)
B1: 様式第２号（別表第２関係）
AP2: 入力欄
AL3: =IF(AQ15="","番 号",AQ15) -> 番 号 | AQ3: 太枠に囲まれた箇所を入力すると、様式に自動反映されます
AL4: =基本情報入力シート!AN35 -> 令和8年月日
C5: 岩手県知事 様 | AP5: ①交付決定月日 | AR5: 月 | AT5: 日 | AU5: 交付決定通知書の知事名の左上に記載された月日
H7: 申請者 法人本店所在地 | AL7: =IF(基本情報入力シート!L20="","",基本情報入力シート!L20) | AP7: ②交付決定番号 | AQ7: 岩手県指令長第 | AT7: - | AV7: 号 | AW7: 交付決定通知書の右上に記載された番号
AL8: =IF(基本情報入力シート!L21="","",基本情報入力シート!L21)
H9: 法人名 | AL9: =IF(基本情報入力シート!L18="","",基本情報入力シート!L18) | AP9: ③変更の理由 | AQ9: ---------------選択してください--------------- | AZ9: どちらかひとつを選択
H10: 代表者職・氏名 | AL10: =IF(基本情報入力シート!L22="","",基本情報入力シート!L22&" "&基本情報入力シート!L23) | AQ10: 交付金額（国保連算出額）＞当初交付決定額の場合→「上回った」を選択
AQ11: 交付金額（国保連算出額）＜当初交付決定額の場合→「下回った」を選択
C13: 令和７年度介護施設等経営改善・従事者処遇改善等緊急支援事業費補助金
C14: （介護分野の職員の賃上げ・職場環境改善支援事業） | AP14: ※社内の決済番号がある場合のみ入力してください
C15: 変更（中止、廃止）承認申請書 | AP15: 社内決済番号
C16: =AQ30&AQ31&AQ32 -> 令和8年月日付け岩手県指令長第-号で交付決定の通知がありました標記事業
C17: について、下記により変更（中止、廃止）したいので、承認されるよう関係書類を添えて申
C18: 請します。
S19: 記
C20: １ 変更（中止、廃止）の理由
E21: =AQ9 -> ---------------選択してください---------------
C24: ２ 添付書類
D25: (１) | F25: 変更に係る届出書（令和７年度介護施設等経営改善・従事者処遇改善等緊急支
F26: 援事業（介護分野の職員の賃上げ・職場環境改善支援事業））
F27: （様式第２号別紙）
D28: (２) | F28: 会社法（平成17年法律第86号）の規定による吸収合併、新設合併等により、計画
E29: 書の作成単位が変更となる場合は、当該事実発生までの賃金改善の実績及び承継後の
E30: 賃金改善に関する内容が分かる書類 | AP30: 本文1 | AQ30: =" 令和8年"&AQ5&AR5&AS5&AT5&"付け" -> 令和8年月日付け
D31: (３) | F31: 複数の介護サービス事業所等について一括して申請を行う事業者において、当該申 | AP31: 本文2 | AQ31: =AQ7&AS7&AT7&AU7&AV7 -> 岩手県指令長第-号
E32: 請に関係する介護サービス事業所等に変更（廃止等の事由による。）があった場合、様 | AP32: 本文3 | AQ32: で交付決定の通知がありました標記事業
E33: 式第１号別紙１並びに様式第１号別紙２に加えて、様式第１号別紙３ | AP33: 変更の理由 | AQ33: ---------------選択してください---------------
D34: (４) | F34: 就業規則を改訂（介護職員の処遇に関する内容に限る。）した場合、当該改訂の概要 | AQ34: 交付金額が当初の予定を上回ったことによる計画変更
E35: が分かる書類 | AQ35: 交付金額が当初の予定を下回ったことによる計画変更
D36: (５) | F36: その他知事が必要と認める書類

Sheet 様式第３号別紙１（補助金　総括表）
A1: 様式第３号別紙１（補助金） | Z1: 提出先 | AC1: =IF(基本情報入力シート!C13<>"", 基本情報入力シート!C13, "") -> 岩手県 | AW1: =B44&D44&F44&G44&I44&J44&L44 -> 令和8年月日
A3: 令和７年度介護施設等経営改善・従事者処遇改善等緊急支援事業 （介護分野の職員の賃上げ・職場環境改善支援事業）実績報告書
A5: １ 基本情報
A6: フリガナ | G6: =IF(基本情報入力シート!L17="","",基本情報入力シート!L17)
A7: 法人名 | G7: =IF(基本情報入力シート!L18="","",基本情報入力シート!L18)
A8: 法人所在地 | G8: 〒 | H8: =IF(基本情報入力シート!AN20="－","",基本情報入力シート!AN20) -> -
G9: =IF(基本情報入力シート!L20="","",基本情報入力シート!L20)
G10: =IF(基本情報入力シート!L21="","",基本情報入力シート!L21)
A11: フリガナ | G11: =IF(基本情報入力シート!L25="","",基本情報入力シート!L25)
A12: 書類作成担当者 | G12: =IF(基本情報入力シート!L26="","",基本情報入力シート!L26)
A13: 連絡先 | G13: 電話番号 | K13: =IF(基本情報入力シート!L27="","",基本情報入力シート!L27) | U13: E-mail | Y13: =IF(基本情報入力シート!L28="","",基本情報入力シート!L28)
A15: ２ 実績報告について
A16: A 補助金の総額（BとCの合計がA以上となること） | Z16: ='様式第３号別紙２（補助金 個票）'!F5 -> 0 | AG16: 円 | AI16: =IF(G7="", "", IF(SUM(Z18:AF19)>=Z16, "○", "×")) | AK16: ！この欄が○でない場合、賃金改善と職場環境改善の所要額の和が補助金総額以上になっていません。
B17: 賃金改善経費分（①及び②。Bが①と②の合計以上となること） | Z17: ='様式第３号別紙２（補助金 個票）'!F6 -> 0 | AG17: 円 | AI17: =IF(G8="", "", IF(Z18>=Z17, "○", "×")) -> ○
A18: B 賃金改善の所要額（①及び②並びに③（賃金改善に充てた額に限る。）） | AG18: 円
A19: C 職場環境改善の所要額（（ア）～（ウ）の合計） （③のうち、職場環境改善に充てた額） | Z19: =SUM(Z20:AF22) -> 0 | AG19: 円
L20: （ア）研修費 | AG20: 円
L21: （イ）介護助手等の募集経費 | AG21: 円
L22: （ウ）その他の金額 | AG22: 円
A23: D（ウ）「その他の金額」に記載した場合の使途
A24: 対象となる要件 | AI24: =IF(G7="", "", IF(AND(Z22>0, A25=""), "×", "○"))
AK25: ！③（ウ）「その他の金額」に記載されていますが、使途分類が選択されていない又は備考欄に記載がありません。
A26: 【記入上の注意】 ・ 本様式では下記の要件を確認しており、オレンジセルが「○」でない場合、補助金の交付要件を満たしていない。 Ⅰ補助金による賃金改善及び職場環境改善の総額が補助金による収入額以上となること。 Ⅱ補助金による賃金改善の総額が補助金による賃金改善経費分以上となること。 Ⅲ職場環境改善を、研修費、介護助手等の募集経費以外に充てた場合、その使途を記載すること。 ・ ②「賃金改善の所要額」には、補助金により賃金改善を行った場合の法定福利費等の事業主負担の増加分を含めることができる。 ・ 「その他の金額」には、補助金の要件である「現場の課題の見える化」、「業務内容の明確化と役割分担」、又は「業務改善活動の体制構築」に関する 取組を実施するための費用のうち、介護テクノロジー等の機器購入費用でないもの（専門家の派遣費用、会議費等）のみ充当することができる。 ・ 「その他の金額」に記載した場合において、対象となる要件が複数ある場合は、プルダウンでは主な対象となる要件を選択し、 その他の要件については、備考欄に記載すること。 ・ 本補助金を、介護テクノロジー等の機器購入費用に充てることはできないため、 そのような使用が都道府県によって確認された場合、チェックリストに○がついていても、要件を満たしていないと審査される可能性がある。
A28: ３ 要件について
B29: ①申請時に処遇改善加算の算定又は処遇改善加算に準ずる要件を満たすことを誓約した場合、本実績報告書の提出までに対応しました。 | AI29: =IF(Z16=0,"",IF(A29="","×","○"))
B30: ②申請時にケアプランデータ連携システムへの加入又は生産性向上推進体制加算の算定を誓約した場合、本実績報告書の提出までに対応しました。 | AI30: =IF(Z16=0,"",IF(A30="","×","○"))
B31: ③申請時に職場環境改善の取組を行うことを誓約した場合、本実績報告書の提出までに対応しました。 | AI31: =IF(Z16=0,"",IF(A31="","×","○"))
B32: 補助金を賃金改善に使用した場合、補助金以外の部分で賃金水準を引き下げていません。 | AI32: =IF(Z16=0,"",IF(A32="","×","○"))
A33: 【記入上の注意】 ・ やむを得ない事情により補助金以外の部分で賃金水準を引き下げた場合、下記備考欄に経緯の概要を記載すること。 （例：事業規模の縮小に伴う職員数・賃金総額の減少等）
A34: 備考欄
A37: ４ 職場環境改善経費の消費税仕入控除税額について
B38: 職場環境改善経費に消費税額を含めていない、又は消費税仕入控除税額を除外しています。 職場環境改善経費に消費税額を含めており、かつ控除税額が報告書作成時に未確定の場合は、確定後に都道府県指定の様式で報告することを理解しました。 | AI38: =IF(Z16=0,"",IF(A38="","×","○"))
A40: ５ 記載内容に虚偽がないことの誓約 | AI40: =IF(G7="", "", IF(AND(B42="✓",AND(G44<>"",J44<>"",Q44<>"",S45<>"",Z45<>"")),"○","×")) | AK40: ！この欄が×の場合、チェックが入っていない項目か、空欄の項目があります。
D42: 実績報告書の記載内容に虚偽がないこと及び記載内容を証明する資料を適切に保管していることを誓約します。 | AQ42: 誓約日結合
B44: 令和 | D44: 8 | F44: 年 | I44: 月 | L44: 日 | N44: 法人名 | Q44: =IF(基本情報入力シート!L18="","", 基本情報入力シート!L18) | AQ44: ="令和8年"&G44&"月"&J44&"日" -> 令和8年月日
N45: 代表者 | Q45: 職名 | S45: =IF(基本情報入力シート!L22="","", 基本情報入力シート!L22) | X45: 氏名 | Z45: =IF(基本情報入力シート!L23="","", 基本情報入力シート!L23)
A47: 【記入上の注意】 ・ 各証明資料は、指定権者からの求めがあった場合には、速やかに提出すること。 ・ 本表への虚偽記載の他、補助金の請求に関して不正があった場合は、補助金を返還することとなる場合がある。
A49: （確認用）提出前のチェックリスト
A50: 以下の項目に「×」がないか、提出前に確認すること。「×」がある場合、当該項目の記載を修正すること。
A52: ２ 実績報告について
...

Sheet 様式第３号別紙２（補助金　個票）
A1: 様式第３号別紙２（補助金） | D1: 令和７年度介護施設等経営改善・従事者処遇改善等緊急支援事業 （介護分野の職員の賃上げ・職場環境改善支援事業）実績報告書（施設・事業所別個表） | I1: 提出先 | J1: =IF(基本情報入力シート!C13<>"", 基本情報入力シート!C13, "") -> 岩手県
A3: 法人名 | C3: =IF(基本情報入力シート!L18="", "", 基本情報入力シート!L18) | H3: 【記入上の注意】 ・本表に記載する事業所は、計画書の基本情報入力シートで当補助金を申請すると記載した事業所と一致しなければならない。 ・事業所の数が多く、１枚に記載しきれない場合は、適宜、行を追加すること。
A5: 提出先の都道府県における補助金額の合計（①、②及び③）［円］ | F5: =IFERROR(SUM(H:I),"") -> 0
A6: うち、賃金改善経費分（①及び②）の合計［円］ | F6: =IFERROR(SUM(K:K),"") -> 0
A7: （補助金の概要）
A8: ①介護従事者に対する 幅広い賃上げ支援 | E8: ア）処遇改善加算の対象サービス →処遇改善加算取得（又は見込み）事業所が対象 イ）対象外サービス（訪問看護、訪問リハ、居宅介護支援等） →処遇改善加算に準ずる要件を満たす（又は見込み）事業所やケアプランデータ連携システムに加入 （又は見込み）の事業所等が対象
A9: ②生産性向上や協働化に取り組む 事業所の介護職員に対する 上乗せの賃上げ支援 | E9: 処遇改善加算の取得に加え、以下の要件を満たす事業所。 ア）訪問、通所サービス等 → ケアプランデータ連携システムに加入（又は見込み）等。 イ）施設、居住サービス、多機能サービス、短期入所サービス等 → 生産性向上加算Ⅰ又はⅡを取得（又は見込み）等。
A10: ③介護職員について、職場環境改善に 取り組む事業所を支援 （介護職員等の賃金改善に充当可能） | E10: 処遇改善加算を取得の上、職場環境等要件の更なる充足等に向けて、職場環境改善を計画し実施する事業所（要件は、令和６年度補正予算の「介護人材 確保・職場環境改善等事業」と同様）。
B12: 介護保険事業所番号 | C12: 指定権者名 | D12: 事業所の所在地 | F12: 事業所名 | G12: サービス名 | H12: 補助金の総額（①、②及び③）[円] | J12: 組合せ | K12: ①＋② （賃金改善経費分） | L12: ③ （賃金改善分又は 職場環境改善分）
D14: 都道府県 | E14: 市区町村
A15: 1 | B15: =IF(基本情報入力シート!B51="","",基本情報入力シート!B51) | C15: =IF(基本情報入力シート!L51="","",基本情報入力シート!L51) | D15: =IF(基本情報入力シート!Q51="","",基本情報入力シート!Q51) | E15: =IF(基本情報入力シート!V51="","",基本情報入力シート!V51) | F15: =IF(基本情報入力シート!W51="","",基本情報入力シート!W51) | G15: =IF(基本情報入力シート!Z51="","",基本情報入力シート!Z51) | H15: =IF('様式第１号別紙３（個表） '!P15="","",'様式第１号別紙３（個表） '!P15) | J15: ='様式第１号別紙３（個表） '!M15 | K15: =IF(H15="","",H15*VLOOKUP(G15,【参考】数式用_2!$A$4:$R$54,MATCH(P15,【参考】数式用_2!$M$3:$R$3,0)+12,FALSE)) | L15: =IF(H15="","",H15*VLOOKUP(G15,【参考】数式用_2!$A$4:$R$54,MATCH(Q15,【参考】数式用_2!$M$3:$R$3,0)+12,FALSE)) | O15: =VLOOKUP(G15,【参考】数式用_2!$A$4:$F$54,6,FALSE) -> #N/A | P15: ="（①＋②）/（"&J15&"）" -> （①＋②）/（） | Q15: ="③/（"&J15&"）" -> ③/（）
A16: =A15+1 -> 2 | B16: =IF(基本情報入力シート!B52="","",基本情報入力シート!B52) | C16: =IF(基本情報入力シート!L52="","",基本情報入力シート!L52) | D16: =IF(基本情報入力シート!Q52="","",基本情報入力シート!Q52) | E16: =IF(基本情報入力シート!V52="","",基本情報入力シート!V52) | F16: =IF(基本情報入力シート!W52="","",基本情報入力シート!W52) | G16: =IF(基本情報入力シート!Z52="","",基本情報入力シート!Z52) | H16: =IF('様式第１号別紙３（個表） '!P16="","",'様式第１号別紙３（個表） '!P16) | J16: ='様式第１号別紙３（個表） '!M16 | K16: =IF(H16="","",H16*VLOOKUP(G16,【参考】数式用_2!$A$4:$R$54,MATCH(P16,【参考】数式用_2!$M$3:$R$3,0)+12,FALSE)) | L16: =IF(H16="","",H16*VLOOKUP(G16,【参考】数式用_2!$A$4:$R$54,MATCH(Q16,【参考】数式用_2!$M$3:$R$3,0)+12,FALSE)) | O16: =VLOOKUP(G16,【参考】数式用_2!$A$4:$F$54,6,FALSE) -> #N/A | P16: ="（①＋②）/（"&J16&"）" -> （①＋②）/（） | Q16: ="③/（"&J16&"）" -> ③/（）
A17: =A16+1 -> 3 | B17: =IF(基本情報入力シート!B53="","",基本情報入力シート!B53) | C17: =IF(基本情報入力シート!L53="","",基本情報入力シート!L53) | D17: =IF(基本情報入力シート!Q53="","",基本情報入力シート!Q53) | E17: =IF(基本情報入力シート!V53="","",基本情報入力シート!V53) | F17: =IF(基本情報入力シート!W53="","",基本情報入力シート!W53) | G17: =IF(基本情報入力シート!Z53="","",基本情報入力シート!Z53) | H17: =IF('様式第１号別紙３（個表） '!P17="","",'様式第１号別紙３（個表） '!P17) | J17: ='様式第１号別紙３（個表） '!M17 | K17: =IF(H17="","",H17*VLOOKUP(G17,【参考】数式用_2!$A$4:$R$54,MATCH(P17,【参考】数式用_2!$M$3:$R$3,0)+12,FALSE)) | L17: =IF(H17="","",H17*VLOOKUP(G17,【参考】数式用_2!$A$4:$R$54,MATCH(Q17,【参考】数式用_2!$M$3:$R$3,0)+12,FALSE)) | O17: =VLOOKUP(G17,【参考】数式用_2!$A$4:$F$54,6,FALSE) -> #N/A | P17: ="（①＋②）/（"&J17&"）" -> （①＋②）/（） | Q17: ="③/（"&J17&"）" -> ③/（）
A18: =A17+1 -> 4 | B18: =IF(基本情報入力シート!B54="","",基本情報入力シート!B54) | C18: =IF(基本情報入力シート!L54="","",基本情報入力シート!L54) | D18: =IF(基本情報入力シート!Q54="","",基本情報入力シート!Q54) | E18: =IF(基本情報入力シート!V54="","",基本情報入力シート!V54) | F18: =IF(基本情報入力シート!W54="","",基本情報入力シート!W54) | G18: =IF(基本情報入力シート!Z54="","",基本情報入力シート!Z54) | H18: =IF('様式第１号別紙３（個表） '!P18="","",'様式第１号別紙３（個表） '!P18) | J18: ='様式第１号別紙３（個表） '!M18 | K18: =IF(H18="","",H18*VLOOKUP(G18,【参考】数式用_2!$A$4:$R$54,MATCH(P18,【参考】数式用_2!$M$3:$R$3,0)+12,FALSE)) | L18: =IF(H18="","",H18*VLOOKUP(G18,【参考】数式用_2!$A$4:$R$54,MATCH(Q18,【参考】数式用_2!$M$3:$R$3,0)+12,FALSE)) | O18: =VLOOKUP(G18,【参考】数式用_2!$A$4:$F$54,6,FALSE) -> #N/A | P18: ="（①＋②）/（"&J18&"）" -> （①＋②）/（） | Q18: ="③/（"&J18&"）" -> ③/（）
A19: =A18+1 -> 5 | B19: =IF(基本情報入力シート!B55="","",基本情報入力シート!B55) | C19: =IF(基本情報入力シート!L55="","",基本情報入力シート!L55) | D19: =IF(基本情報入力シート!Q55="","",基本情報入力シート!Q55) | E19: =IF(基本情報入力シート!V55="","",基本情報入力シート!V55) | F19: =IF(基本情報入力シート!W55="","",基本情報入力シート!W55) | G19: =IF(基本情報入力シート!Z55="","",基本情報入力シート!Z55) | H19: =IF('様式第１号別紙３（個表） '!P19="","",'様式第１号別紙３（個表） '!P19) | J19: ='様式第１号別紙３（個表） '!M19 | K19: =IF(H19="","",H19*VLOOKUP(G19,【参考】数式用_2!$A$4:$R$54,MATCH(P19,【参考】数式用_2!$M$3:$R$3,0)+12,FALSE)) | L19: =IF(H19="","",H19*VLOOKUP(G19,【参考】数式用_2!$A$4:$R$54,MATCH(Q19,【参考】数式用_2!$M$3:$R$3,0)+12,FALSE)) | O19: =VLOOKUP(G19,【参考】数式用_2!$A$4:$F$54,6,FALSE) -> #N/A | P19: ="（①＋②）/（"&J19&"）" -> （①＋②）/（） | Q19: ="③/（"&J19&"）" -> ③/（）
A20: =A19+1 -> 6 | B20: =IF(基本情報入力シート!B56="","",基本情報入力シート!B56) | C20: =IF(基本情報入力シート!L56="","",基本情報入力シート!L56) | D20: =IF(基本情報入力シート!Q56="","",基本情報入力シート!Q56) | E20: =IF(基本情報入力シート!V56="","",基本情報入力シート!V56) | F20: =IF(基本情報入力シート!W56="","",基本情報入力シート!W56) | G20: =IF(基本情報入力シート!Z56="","",基本情報入力シート!Z56) | H20: =IF('様式第１号別紙３（個表） '!P20="","",'様式第１号別紙３（個表） '!P20) | J20: ='様式第１号別紙３（個表） '!M20 | K20: =IF(H20="","",H20*VLOOKUP(G20,【参考】数式用_2!$A$4:$R$54,MATCH(P20,【参考】数式用_2!$M$3:$R$3,0)+12,FALSE)) | L20: =IF(H20="","",H20*VLOOKUP(G20,【参考】数式用_2!$A$4:$R$54,MATCH(Q20,【参考】数式用_2!$M$3:$R$3,0)+12,FALSE)) | O20: =VLOOKUP(G20,【参考】数式用_2!$A$4:$F$54,6,FALSE) -> #N/A | P20: ="（①＋②）/（"&J20&"）" -> （①＋②）/（） | Q20: ="③/（"&J20&"）" -> ③/（）
A21: =A20+1 -> 7 | B21: =IF(基本情報入力シート!B57="","",基本情報入力シート!B57) | C21: =IF(基本情報入力シート!L57="","",基本情報入力シート!L57) | D21: =IF(基本情報入力シート!Q57="","",基本情報入力シート!Q57) | E21: =IF(基本情報入力シート!V57="","",基本情報入力シート!V57) | F21: =IF(基本情報入力シート!W57="","",基本情報入力シート!W57) | G21: =IF(基本情報入力シート!Z57="","",基本情報入力シート!Z57) | H21: =IF('様式第１号別紙３（個表） '!P21="","",'様式第１号別紙３（個表） '!P21) | J21: ='様式第１号別紙３（個表） '!M21 | K21: =IF(H21="","",H21*VLOOKUP(G21,【参考】数式用_2!$A$4:$R$54,MATCH(P21,【参考】数式用_2!$M$3:$R$3,0)+12,FALSE)) | L21: =IF(H21="","",H21*VLOOKUP(G21,【参考】数式用_2!$A$4:$R$54,MATCH(Q21,【参考】数式用_2!$M$3:$R$3,0)+12,FALSE)) | O21: =VLOOKUP(G21,【参考】数式用_2!$A$4:$F$54,6,FALSE) -> #N/A | P21: ="（①＋②）/（"&J21&"）" -> （①＋②）/（） | Q21: ="③/（"&J21&"）" -> ③/（）
A22: =A21+1 -> 8 | B22: =IF(基本情報入力シート!B58="","",基本情報入力シート!B58) | C22: =IF(基本情報入力シート!L58="","",基本情報入力シート!L58) | D22: =IF(基本情報入力シート!Q58="","",基本情報入力シート!Q58) | E22: =IF(基本情報入力シート!V58="","",基本情報入力シート!V58) | F22: =IF(基本情報入力シート!W58="","",基本情報入力シート!W58) | G22: =IF(基本情報入力シート!Z58="","",基本情報入力シート!Z58) | H22: =IF('様式第１号別紙３（個表） '!P22="","",'様式第１号別紙３（個表） '!P22) | J22: ='様式第１号別紙３（個表） '!M22 | K22: =IF(H22="","",H22*VLOOKUP(G22,【参考】数式用_2!$A$4:$R$54,MATCH(P22,【参考】数式用_2!$M$3:$R$3,0)+12,FALSE)) | L22: =IF(H22="","",H22*VLOOKUP(G22,【参考】数式用_2!$A$4:$R$54,MATCH(Q22,【参考】数式用_2!$M$3:$R$3,0)+12,FALSE)) | O22: =VLOOKUP(G22,【参考】数式用_2!$A$4:$F$54,6,FALSE) -> #N/A | P22: ="（①＋②）/（"&J22&"）" -> （①＋②）/（） | Q22: ="③/（"&J22&"）" -> ③/（）
A23: =A22+1 -> 9 | B23: =IF(基本情報入力シート!B59="","",基本情報入力シート!B59) | C23: =IF(基本情報入力シート!L59="","",基本情報入力シート!L59) | D23: =IF(基本情報入力シート!Q59="","",基本情報入力シート!Q59) | E23: =IF(基本情報入力シート!V59="","",基本情報入力シート!V59) | F23: =IF(基本情報入力シート!W59="","",基本情報入力シート!W59) | G23: =IF(基本情報入力シート!Z59="","",基本情報入力シート!Z59) | H23: =IF('様式第１号別紙３（個表） '!P23="","",'様式第１号別紙３（個表） '!P23) | J23: ='様式第１号別紙３（個表） '!M23 | K23: =IF(H23="","",H23*VLOOKUP(G23,【参考】数式用_2!$A$4:$R$54,MATCH(P23,【参考】数式用_2!$M$3:$R$3,0)+12,FALSE)) | L23: =IF(H23="","",H23*VLOOKUP(G23,【参考】数式用_2!$A$4:$R$54,MATCH(Q23,【参考】数式用_2!$M$3:$R$3,0)+12,FALSE)) | O23: =VLOOKUP(G23,【参考】数式用_2!$A$4:$F$54,6,FALSE) -> #N/A | P23: ="（①＋②）/（"&J23&"）" -> （①＋②）/（） | Q23: ="③/（"&J23&"）" -> ③/（）
A24: =A23+1 -> 10 | B24: =IF(基本情報入力シート!B60="","",基本情報入力シート!B60) | C24: =IF(基本情報入力シート!L60="","",基本情報入力シート!L60) | D24: =IF(基本情報入力シート!Q60="","",基本情報入力シート!Q60) | E24: =IF(基本情報入力シート!V60="","",基本情報入力シート!V60) | F24: =IF(基本情報入力シート!W60="","",基本情報入力シート!W60) | G24: =IF(基本情報入力シート!Z60="","",基本情報入力シート!Z60) | H24: =IF('様式第１号別紙３（個表） '!P24="","",'様式第１号別紙３（個表） '!P24) | J24: ='様式第１号別紙３（個表） '!M24 | K24: =IF(H24="","",H24*VLOOKUP(G24,【参考】数式用_2!$A$4:$R$54,MATCH(P24,【参考】数式用_2!$M$3:$R$3,0)+12,FALSE)) | L24: =IF(H24="","",H24*VLOOKUP(G24,【参考】数式用_2!$A$4:$R$54,MATCH(Q24,【参考】数式用_2!$M$3:$R$3,0)+12,FALSE)) | O24: =VLOOKUP(G24,【参考】数式用_2!$A$4:$F$54,6,FALSE) -> #N/A | P24: ="（①＋②）/（"&J24&"）" -> （①＋②）/（） | Q24: ="③/（"&J24&"）" -> ③/（）
A25: =A24+1 -> 11 | B25: =IF(基本情報入力シート!B61="","",基本情報入力シート!B61) | C25: =IF(基本情報入力シート!L61="","",基本情報入力シート!L61) | D25: =IF(基本情報入力シート!Q61="","",基本情報入力シート!Q61) | E25: =IF(基本情報入力シート!V61="","",基本情報入力シート!V61) | F25: =IF(基本情報入力シート!W61="","",基本情報入力シート!W61) | G25: =IF(基本情報入力シート!Z61="","",基本情報入力シート!Z61) | H25: =IF('様式第１号別紙３（個表） '!P25="","",'様式第１号別紙３（個表） '!P25) | J25: ='様式第１号別紙３（個表） '!M25 | K25: =IF(H25="","",H25*VLOOKUP(G25,【参考】数式用_2!$A$4:$R$54,MATCH(P25,【参考】数式用_2!$M$3:$R$3,0)+12,FALSE)) | L25: =IF(H25="","",H25*VLOOKUP(G25,【参考】数式用_2!$A$4:$R$54,MATCH(Q25,【参考】数式用_2!$M$3:$R$3,0)+12,FALSE)) | O25: =VLOOKUP(G25,【参考】数式用_2!$A$4:$F$54,6,FALSE) -> #N/A | P25: ="（①＋②）/（"&J25&"）" -> （①＋②）/（） | Q25: ="③/（"&J25&"）" -> ③/（）
A26: =A25+1 -> 12 | B26: =IF(基本情報入力シート!B62="","",基本情報入力シート!B62) | C26: =IF(基本情報入力シート!L62="","",基本情報入力シート!L62) | D26: =IF(基本情報入力シート!Q62="","",基本情報入力シート!Q62) | E26: =IF(基本情報入力シート!V62="","",基本情報入力シート!V62) | F26: =IF(基本情報入力シート!W62="","",基本情報入力シート!W62) | G26: =IF(基本情報入力シート!Z62="","",基本情報入力シート!Z62) | H26: =IF('様式第１号別紙３（個表） '!P26="","",'様式第１号別紙３（個表） '!P26) | J26: ='様式第１号別紙３（個表） '!M26 | K26: =IF(H26="","",H26*VLOOKUP(G26,【参考】数式用_2!$A$4:$R$54,MATCH(P26,【参考】数式用_2!$M$3:$R$3,0)+12,FALSE)) | L26: =IF(H26="","",H26*VLOOKUP(G26,【参考】数式用_2!$A$4:$R$54,MATCH(Q26,【参考】数式用_2!$M$3:$R$3,0)+12,FALSE)) | O26: =VLOOKUP(G26,【参考】数式用_2!$A$4:$F$54,6,FALSE) -> #N/A | P26: ="（①＋②）/（"&J26&"）" -> （①＋②）/（） | Q26: ="③/（"&J26&"）" -> ③/（）
A27: =A26+1 -> 13 | B27: =IF(基本情報入力シート!B63="","",基本情報入力シート!B63) | C27: =IF(基本情報入力シート!L63="","",基本情報入力シート!L63) | D27: =IF(基本情報入力シート!Q63="","",基本情報入力シート!Q63) | E27: =IF(基本情報入力シート!V63="","",基本情報入力シート!V63) | F27: =IF(基本情報入力シート!W63="","",基本情報入力シート!W63) | G27: =IF(基本情報入力シート!Z63="","",基本情報入力シート!Z63) | H27: =IF('様式第１号別紙３（個表） '!P27="","",'様式第１号別紙３（個表） '!P27) | J27: ='様式第１号別紙３（個表） '!M27 | K27: =IF(H27="","",H27*VLOOKUP(G27,【参考】数式用_2!$A$4:$R$54,MATCH(P27,【参考】数式用_2!$M$3:$R$3,0)+12,FALSE)) | L27: =IF(H27="","",H27*VLOOKUP(G27,【参考】数式用_2!$A$4:$R$54,MATCH(Q27,【参考】数式用_2!$M$3:$R$3,0)+12,FALSE)) | O27: =VLOOKUP(G27,【参考】数式用_2!$A$4:$F$54,6,FALSE) -> #N/A | P27: ="（①＋②）/（"&J27&"）" -> （①＋②）/（） | Q27: ="③/（"&J27&"）" -> ③/（）
... A114: =A113+1 -> 100 | B114: =IF(基本情報入力シート!B150="","",基本情報入力シート!B150) | C114: =IF(基本情報入力シート!L150="","",基本情報入力シート!L150) | D114: =IF(基本情報入力シート!Q150="","",基本情報入力シート!Q150) | E114: =IF(基本情報入力シート!V150="","",基本情報入力シート!V150) | F114: =IF(基本情報入力シート!W150="","",基本情報入力シート!W150) | G114: =IF(基本情報入力シート!Z150="","",基本情報入力シート!Z150) | H114: =IF('様式第１号別紙３（個表） '!P114="","",'様式第１号別紙３（個表） '!P114) | J114: ='様式第１号別紙３（個表） '!M114 | K114: =IF(H114="","",H114*VLOOKUP(G114,【参考】数式用_2!$A$4:$R$54,MATCH(P114,【参考】数式用_2!$M$3:$R$3,0)+12,FALSE)) | L114: =IF(H114="","",H114*VLOOKUP(G114,【参考】数式用_2!$A$4:$R$54,MATCH(Q114,【参考】数式用_2!$M$3:$R$3,0)+12,FALSE)) | O114: =VLOOKUP(G114,【参考】数式用_2!$A$4:$F$54,6,FALSE) -> #N/A | P114: ="（①＋②）/（"&J114&"）" -> （①＋②）/（） | Q114: ="③/（"&J114&"）" -> ③/（）

Sheet 様式第3号（別表第２関係)
B1: 様式第３号（別表第２関係）
AP2: 入力欄
AL3: =IF(AS15="","番 号",AS15) -> 番 号 | AR3: 太枠に囲まれた箇所を入力すると、様式に自動反映されます
AL4: ='様式第３号別紙１（補助金 総括表）'!AQ44 -> 令和8年月日
C5: 岩手県知事 様 | AP5: 当初交付決定 | AR5: ①交付決定月日 | AT5: 月 | AV5: 日 | AW5: 交付決定通知書の知事名の左上に記載された月日
H7: 申請者 法人本店所在地 | AL7: =IF(基本情報入力シート!L20="","",基本情報入力シート!L20) | AR7: ②交付決定番号 | AS7: 岩手県指令長第 | AV7: - | AX7: 号 | AY7: 交付決定通知書の右上に記載された番号
AL8: =IF(基本情報入力シート!L21="","",基本情報入力シート!L21)
H9: 法人名 | AL9: =IF(基本情報入力シート!L18="","",基本情報入力シート!L18) | AP9: 変更交付決定 | AR9: ③交付決定月日 | AT9: 月 | AV9: 日 | AW9: 変更交付決定通知書の知事名の左上に記載された月日
H10: 代表者職・氏名 | AL10: =IF(基本情報入力シート!L22="","",基本情報入力シート!L22&" "&基本情報入力シート!L23)
AR11: ④交付決定番号 | AS11: 岩手県指令長第 | AV11: - | AX11: 号 | AY11: 変更交付決定通知書の右上に記載された番号
C13: 令和７年度介護施設等経営改善・従事者処遇改善等緊急支援事業費補助金
C14: （介護分野の職員の賃上げ・職場環境改善支援事業）実績報告書 | AR14: ※社内の決済番号がある場合のみ入力してください
C15: =AS29&AS30&AS31&AS32&AS33 -> 令和8年月日付け岩手県指令長第-号及び令和8年月日付け岩手県指令長第-号で交付決定の通知がありました標記事業について、事業が完了したので、関係書類を添えて報告します。 | AR15: 社内決済番号
S19: 記
C20: １ 事業精算額 金 | O20: ='様式第３号別紙２（補助金 個票）'!F5 -> 0 | Y20: 円
C23: ２ 添付書類
D24: (１) | F24: 令和７年度介護施設等経営改善・従事者処遇改善等緊急支援事業（介護分野の
F25: 職員の賃上げ・職場環境改善支援事業）実績報告書
E26: （様式第３号別紙１）
D27: (２) | F27: 令和７年度介護施設等経営改善・従事者処遇改善等緊急支援事業（介護分野の
F28: 職員の賃上げ・職場環境改善支援事業）実績報告書（施設・事業所別個表）
E29: （様式第３号別紙２） | AR29: 本文1(当初) | AS29: =" 令和8年"&AS5&AT5&AU5&AV5&"付け" -> 令和8年月日付け
D30: (３) | F30: その他知事が必要と認める書類 | AR30: 本文2(当初) | AS30: =AS7&AU7&AV7&AW7&AX7&"及び" -> 岩手県指令長第-号及び
AR31: 本文3(変更) | AS31: ="令和8年"&AS9&AT9&AU9&AV9&"付け" -> 令和8年月日付け
AR32: 本文4(変更) | AS32: =AS11&AU11&AV11&AW11&AX11 -> 岩手県指令長第-号
AR33: 本文5 | AS33: で交付決定の通知がありました標記事業について、事業が完了したので、関係書類を添えて報告します。
D264: 1486000

Sheet 様式第5号（別表第２関係)
B1: 様式第５号（別表第２関係）
AP2: 入力欄
AL3: =IF(AS18="","番 号",AS18) -> 番 号 | AR3: 太枠に囲まれた箇所を入力すると、様式に自動反映されます
AL4: ='様式第３号別紙１（補助金 総括表）'!AQ44 -> 令和8年月日
C5: 岩手県知事 様 | AP5: 当初交付決定 | AR5: ①交付決定月日 | AT5: 月 | AV5: 日 | AW5: 交付決定通知書の知事名の左上に記載された月日
H7: 申請者 法人本店所在地 | AL7: =IF(基本情報入力シート!L20="","",基本情報入力シート!L20) | AR7: ②交付決定番号 | AS7: 岩手県指令長第 | AV7: - | AX7: 号 | AY7: 交付決定通知書の右上に記載された番号
AL8: =IF(基本情報入力シート!L21="","",基本情報入力シート!L21)
H9: 法人名 | AL9: =IF(基本情報入力シート!L18="","",基本情報入力シート!L18) | AR9: ③交付決定額 | AW9: 交付決定通知書の本文に記載された金額
H10: 代表者職・氏名 | AL10: =IF(基本情報入力シート!L22="","",基本情報入力シート!L22&" "&基本情報入力シート!L23)
AP12: 変更交付決定 | AR12: ③交付決定月日 | AT12: 月 | AV12: 日 | AW12: 変更交付決定通知書の知事名の左上に記載された月日
C13: 令和７年度介護施設等経営改善・従事者処遇改善等緊急支援事業費補助金
C14: （介護分野の職員の賃上げ・職場環境改善支援事業）請求書 | AR14: ④交付決定番号 | AS14: 岩手県指令長第 | AV14: - | AX14: 号 | AY14: 変更交付決定通知書の右上に記載された番号
C15: =AS31&AS32&AS33&AS34&AS35 -> 令和8年月日付け岩手県指令長第-号及び令和8年月日付け岩手県指令長第-号で交付決定の通知がありました標記交付金について、令和７年度介護施設等経営改善・従事者処遇改善等緊急支援事業費補助金（介護分野の職員の賃上げ・職場環境改善支援事業）交付要綱第６の２の規定により、次のとおり補助金の交付を請求します。
AR17: ※社内の決済番号がある場合のみ入力してください
AR18: 社内決済番号
N21: 金 | P21: =BB22 | Y21: 円
AR22: ※国保連通知額＞当初交付決定額の場合、差額が発生します | BB22: =IF(AS9="","",BB24)
AP23: 差額確認用 | AR23: 補助金額合計 | AT23: 当初交付決定額 | AX23: 計算結果 | BB23: ↓入力後反映用
AR24: ='様式第３号別紙２（補助金 個票）'!F5 -> 0 | AS24: - | AT24: =AS9 -> 0 | AW24: = | AX24: =AR24-AT24 -> 0 | BB24: =IF(AR24-AT24>0,AR24-AT24,"差額なし") -> 差額なし
AR31: 本文1(当初) | AS31: =" 令和8年"&AS5&AT5&AU5&AV5&"付け" -> 令和8年月日付け
AR32: 本文2(当初) | AS32: =AS7&AU7&AV7&AW7&AX7&"及び" -> 岩手県指令長第-号及び
AR33: 本文3(変更) | AS33: ="令和8年"&AS12&AT12&AU12&AV12&"付け" -> 令和8年月日付け
AR34: 本文4(変更) | AS34: =AS14&AU14&AV14&AW14&AX14 -> 岩手県指令長第-号
AR35: 本文5 | AS35: で交付決定の通知がありました標記交付金について、令和７年度介護施設等経営改善・従事者処遇改善等緊急支援事業費補助金（介護分野の職員の賃上げ・職場環境改善支援事業）交付要綱第６の２の規定により、次のとおり補助金の交付を請求します。
D263: 1486000

Sheet 委任状
A1: 委 任 状
A2: 令和 年 月 日
A4: 岩手県知事 達増 拓也 様
F5: 委任者
A6: 委任者 | F6: 所在地
A7: 所在地 | F7: 法人名
A8: 法人名（屋号） | F8: 代表者職・氏名 印
A11: 令和７年度介護施設等経営改善・従事者処遇改善等緊急支援事業費補助金（介護分野の職員の賃上げ・職場改善支援事業）の受領に関する権限を以下の者に委任します。
A14: 受任者 | F14: 受任者
A15: 所在地 | F15: 所在地
A16: 法人名 | F16: 法人名
F17: 受任者職・氏名
A18: 受任者職・氏名
A20: 【振込口座（受任者名義の口座）】
A21: 金融機関名 | F21: 金融機関
F22: コード
A23: 本・支店名 | F23: 支店
F24: コード
